BEGIN:VCALENDAR
VERSION:2.0
PRODID:-//Mittelstand-Digital Zentrum Ilmenau - ECPv6.15.17//NONSGML v1.0//EN
CALSCALE:GREGORIAN
METHOD:PUBLISH
X-WR-CALNAME:Mittelstand-Digital Zentrum Ilmenau
X-ORIGINAL-URL:https://www.zentrum-ilmenau.digital
X-WR-CALDESC:Veranstaltungen für Mittelstand-Digital Zentrum Ilmenau
REFRESH-INTERVAL;VALUE=DURATION:PT1H
X-Robots-Tag:noindex
X-PUBLISHED-TTL:PT1H
BEGIN:VTIMEZONE
TZID:Europe/Berlin
BEGIN:DAYLIGHT
TZOFFSETFROM:+0100
TZOFFSETTO:+0200
TZNAME:CEST
DTSTART:20220327T010000
END:DAYLIGHT
BEGIN:STANDARD
TZOFFSETFROM:+0200
TZOFFSETTO:+0100
TZNAME:CET
DTSTART:20221030T010000
END:STANDARD
BEGIN:DAYLIGHT
TZOFFSETFROM:+0100
TZOFFSETTO:+0200
TZNAME:CEST
DTSTART:20230326T010000
END:DAYLIGHT
BEGIN:STANDARD
TZOFFSETFROM:+0200
TZOFFSETTO:+0100
TZNAME:CET
DTSTART:20231029T010000
END:STANDARD
BEGIN:DAYLIGHT
TZOFFSETFROM:+0100
TZOFFSETTO:+0200
TZNAME:CEST
DTSTART:20240331T010000
END:DAYLIGHT
BEGIN:STANDARD
TZOFFSETFROM:+0200
TZOFFSETTO:+0100
TZNAME:CET
DTSTART:20241027T010000
END:STANDARD
END:VTIMEZONE
BEGIN:VEVENT
DTSTART;TZID=Europe/Berlin:20230207T123000
DTEND;TZID=Europe/Berlin:20230207T153000
DTSTAMP:20260421T173702
CREATED:20220819T081808Z
LAST-MODIFIED:20220915T112339Z
UID:11207-1675773000-1675783800@www.zentrum-ilmenau.digital
SUMMARY:Produktmanagement\, Konfiguration & Online-Shops im Mittelstand – Teil 3: Einsatzmöglichkeiten von Konfiguratoren
DESCRIPTION:Sie wollen Ihren Vertrieb optimal mit allen erforderlichen Daten versorgen und somit den Umsatz sichern und sogar ggf. steigern? In vielen Unternehmen gibt es großes Potential\, den Vertriebsprozess zu verbessern. Der Schlüssel dafür sind die Produktdaten. \nIn der dreiteiligen Veranstaltungsreihe wird das Problemfeld rund um das Management von Produktdaten näher beleuchtet. In diesem Kontext stehen vor allem kleine und mittlere Unternehmen immer wieder vor den Herausforderungen\, dass Produktdaten in unterschiedlichen Systemen gepflegt werden. \n\nDoch wie verknüpft man die Systeme miteinander? \nWie kann Ordnung geschaffen werden? \nWie können Online-Shops und Konfiguratoren dabei unterstützen?\n\nWir geben Ihnen einen Überblick zu unterschiedlichen Möglichkeiten\, wie Sie Ihre Produktdaten managen und nutzen können. \nZiel der Veranstaltungsreihe ist es\, neben der Problemerfassung\, anhand von Praxisbeispielen zu zeigen\, wie Unternehmen hier einen Weg gefunden haben\, ihre Prozesse zum Handling ihrer Produktdaten zu analysieren\, zu ordnen und schließlich zu optimieren. \n\nErfahren Sie mehr zu den Themen Produktdatenmanagement\, Konfiguration und Online-Shops.\nLernen Sie von Unternehmen\, die ihr Produktdatenmanagement erfolgreich gestaltet haben.\nNutzen Sie die Gelegenheit\, mit Expert:innen konkrete Lösungsansätze für Ihr Unternehmen zu diskutieren.\n\n  \nTeil 3: Einsatzmöglichkeiten von Konfiguratoren: Von einzigartigen Produkterlebnissen bis zur effizienten\, fehlerfreien Beratung\nIn dieser Veranstaltung stellt Matthias Schwuchow\, Geschäftsführer der ORISA Software GmbH\, die vielfältigen Einsatzmöglichkeiten von Konfiguratoren zur Vertriebsunterstützung vor. \nDabei wird anhand von praktischen Beispielen gezeigt\, welche unterschiedlichen Lösungsansätze es für Konfiguratoren gibt\, wie eine pragmatische und zielorientierte Einführung von Konfiguratorlösungen aussehen kann und welche Rolle die Strukturierung der zugrundeliegenden Produktdaten spielt. \nReferent: \nMatthias Schwuchow (ORISA Software GmbH\, Jena) \nZugangsvoraussetzungen: keine \nTeilnehmerbegrenzung: 50 Personen \n  \nWeitere Termine:\n\n\n\n24.01.2023\nTeil 1: Vertriebsprozesse mit Produktdatenmanagement sinnvoll unterstützen\nJetzt anmelden!\n\n\n31.01.2023\nTeil 2: Produktdaten und -varianten verwalten für Online-Shops\nJetzt anmelden!\n\n\n\n 
URL:https://www.zentrum-ilmenau.digital/veranstaltung/produktmanagement-konfiguration-online-shops-im-mittelstand-teil-3-einsatzmoeglichkeiten-von-konfiguratoren/
LOCATION:Online
CATEGORIES:Onlineseminare
ATTACH;FMTTYPE=image/jpeg:https://www.zentrum-ilmenau.digital/wp-content/uploads/2022/08/pexels-lukas-577210-scaled-e1664403476799.jpg
ORGANIZER;CN="Mittelstand-Digital Zentrum Ilmenau":MAILTO:info@kompetenzzentrum-ilmenau.digital
END:VEVENT
END:VCALENDAR