BEGIN:VCALENDAR
VERSION:2.0
PRODID:-//Mittelstand-Digital Zentrum Ilmenau - ECPv6.15.17//NONSGML v1.0//EN
CALSCALE:GREGORIAN
METHOD:PUBLISH
X-WR-CALNAME:Mittelstand-Digital Zentrum Ilmenau
X-ORIGINAL-URL:https://www.zentrum-ilmenau.digital
X-WR-CALDESC:Veranstaltungen für Mittelstand-Digital Zentrum Ilmenau
REFRESH-INTERVAL;VALUE=DURATION:PT1H
X-Robots-Tag:noindex
X-PUBLISHED-TTL:PT1H
BEGIN:VTIMEZONE
TZID:Europe/Berlin
BEGIN:DAYLIGHT
TZOFFSETFROM:+0100
TZOFFSETTO:+0200
TZNAME:CEST
DTSTART:20210328T010000
END:DAYLIGHT
BEGIN:STANDARD
TZOFFSETFROM:+0200
TZOFFSETTO:+0100
TZNAME:CET
DTSTART:20211031T010000
END:STANDARD
BEGIN:DAYLIGHT
TZOFFSETFROM:+0100
TZOFFSETTO:+0200
TZNAME:CEST
DTSTART:20220327T010000
END:DAYLIGHT
BEGIN:STANDARD
TZOFFSETFROM:+0200
TZOFFSETTO:+0100
TZNAME:CET
DTSTART:20221030T010000
END:STANDARD
BEGIN:DAYLIGHT
TZOFFSETFROM:+0100
TZOFFSETTO:+0200
TZNAME:CEST
DTSTART:20230326T010000
END:DAYLIGHT
BEGIN:STANDARD
TZOFFSETFROM:+0200
TZOFFSETTO:+0100
TZNAME:CET
DTSTART:20231029T010000
END:STANDARD
END:VTIMEZONE
BEGIN:VEVENT
DTSTART;TZID=Europe/Berlin:20220406T120000
DTEND;TZID=Europe/Berlin:20220406T130000
DTSTAMP:20260423T004019
CREATED:20220118T084114Z
LAST-MODIFIED:20220324T171651Z
UID:9352-1649246400-1649250000@www.zentrum-ilmenau.digital
SUMMARY:Digitale Mittagspause Vol. 12 – Digitale Zustandsüberwachung in der Industrie 4.0
DESCRIPTION:Digitale Mittagspause – Zusammen sind wir weniger allein\nSie befinden sich im Homeoffice oder arbeiten mobil? Da kommt die zwischenmenschliche Interaktion oft zu kurz. Auch wenn Sie im Büro sind\, haben Sie Lust\, sich nicht nur mit Ihren direkten Kollegen und Kolleginnen auszutauschen?\nDafür wollen wir uns in einer lockeren Atmosphäre digital zur Mittagspause treffen. \nGemeinsam mit dem Mittelstand-Digital Zentrum Ilmenau möchten wir die Pausenzeit für Gespräche mit netten Menschen nutzen. Über Büro- und Stadtgrenzen hinweg essen wir zusammen Mittag\, unterhalten uns und knüpfen Kontakte – eine offene Mittagspause für jedermann. \nDieses Format findet jeweils am ersten Mittwoch des Monats von 12:00 bis 13:00 Uhr statt. Jede Mittagspause steht unter einem bestimmten Thema. Es geht voranging nicht darum\, Vorträgen zu lauschen. Vielmehr steht der fachliche Austausch im Vordergrund. Erfahren Sie\, welche Möglichkeiten und Chancen\, aber auch Herausforderungen digitale Anwendungen umfassen. Wir laden hierfür themenspezifische Impulsgeber und Best-Practice-Beispiele ein. \n\nDas Thüringer Kompetenzzentrum Wirtschaft 4.0 und das Mittelstand-Digital Zentrum Ilmenau laden Sie recht herzlich zur Digitalen Mittagspause Vol. 11 am 02.03.2021 ein. \n\n\nThema: Digitale Zustandsüberwachung in der Industrie 4.0 \nVorgestellt wird der Demonstrator zur Zustandsüberwachung einer Fräsmaschine. Wir wollen Ihnen das Vorgehen zeigen\, wie diese Maschinendaten nutzbar gemacht werden mittels nachrüstbarer Sensorik. Erfahren Sie\, wie diese Daten visualisieren werden können. Diskutieren Sie mit uns zu folgenden Punkten: \n\nÜberwachung der Fräsmaschine und Fernabfrage der Daten aus dem gesamten lokalen Netzwerk\nVisualisierung der aktuellen Fertigungsvorgänge\nMöglichkeit der Langzeitanalysen der Fertigungs- bzw. Maschinendaten\nNachrüstbarkeit weiterer Sensoren zur Erweiterung der Datenerhebung und Analyse\n\nMittelstand-Digital Zentrum Ilmenau\, Modellfabrik Smarte Sensorsysteme \nVertreter: Wolfram Kattanek \nKonferenztool: MS Teams \nHinweise: Bitte beachten Sie\, dass Ihre Anmeldedaten aufgrund der Zusammenarbeit und daher einhergehend öffentlichen Förderung beider Zentren miteinander ausgetauscht werden. Ihre Daten werden nicht an Dritte weitergegeben und ausschließlich im Veranstaltungskontext verwendet. Melden Sie sich nur zur Veranstaltung an\, wenn Sie damit einverstanden sind. \nDie Einwahldaten sowie ergänzende technische Informationen erhalten alle angemeldeten Teilnehmer*innen einen Tag vor der Veranstaltung. Für die Teilnahme ist keine spezifische technische Ausstattung notwendig.
URL:https://www.zentrum-ilmenau.digital/veranstaltung/digitale-mittagspause-vol-12-digitale-zustandsueberwachung-in-der-industrie-4-0/
LOCATION:Online
CATEGORIES:Onlinekonferenz
ATTACH;FMTTYPE=image/jpeg:https://www.zentrum-ilmenau.digital/wp-content/uploads/2022/01/Beitragsbild-DiMi-Vol.12-nOCvry.tmp_.jpg
END:VEVENT
END:VCALENDAR