BEGIN:VCALENDAR
VERSION:2.0
PRODID:-//Mittelstand-Digital Zentrum Ilmenau - ECPv6.15.17//NONSGML v1.0//EN
CALSCALE:GREGORIAN
METHOD:PUBLISH
X-WR-CALNAME:Mittelstand-Digital Zentrum Ilmenau
X-ORIGINAL-URL:https://www.zentrum-ilmenau.digital
X-WR-CALDESC:Veranstaltungen für Mittelstand-Digital Zentrum Ilmenau
REFRESH-INTERVAL;VALUE=DURATION:PT1H
X-Robots-Tag:noindex
X-PUBLISHED-TTL:PT1H
BEGIN:VTIMEZONE
TZID:Europe/Berlin
BEGIN:DAYLIGHT
TZOFFSETFROM:+0100
TZOFFSETTO:+0200
TZNAME:CEST
DTSTART:20210328T010000
END:DAYLIGHT
BEGIN:STANDARD
TZOFFSETFROM:+0200
TZOFFSETTO:+0100
TZNAME:CET
DTSTART:20211031T010000
END:STANDARD
BEGIN:DAYLIGHT
TZOFFSETFROM:+0100
TZOFFSETTO:+0200
TZNAME:CEST
DTSTART:20220327T010000
END:DAYLIGHT
BEGIN:STANDARD
TZOFFSETFROM:+0200
TZOFFSETTO:+0100
TZNAME:CET
DTSTART:20221030T010000
END:STANDARD
BEGIN:DAYLIGHT
TZOFFSETFROM:+0100
TZOFFSETTO:+0200
TZNAME:CEST
DTSTART:20230326T010000
END:DAYLIGHT
BEGIN:STANDARD
TZOFFSETFROM:+0200
TZOFFSETTO:+0100
TZNAME:CET
DTSTART:20231029T010000
END:STANDARD
END:VTIMEZONE
BEGIN:VEVENT
DTSTART;TZID=Europe/Berlin:20220302T120000
DTEND;TZID=Europe/Berlin:20220302T130000
DTSTAMP:20260423T015848
CREATED:20211203T114938Z
LAST-MODIFIED:20220224T122340Z
UID:9063-1646222400-1646226000@www.zentrum-ilmenau.digital
SUMMARY:Digitale Mittagspause Vol. 11 – Digitale Messtechnik im Fertigungsumfeld
DESCRIPTION:Digitale Mittagspause – Zusammen sind wir weniger allein\nSie befinden sich im Homeoffice oder arbeiten mobil? Da kommt die zwischenmenschliche Interaktion oft zu kurz. Auch wenn Sie im Büro sind\, haben Sie Lust\, sich nicht nur mit Ihren direkten Kollegen und Kolleginnen auszutauschen?\nDafür wollen wir uns in einer lockeren Atmosphäre digital zur Mittagspause treffen. \nGemeinsam mit dem Mittelstand-Digital Zentrum Ilmenau möchten wir die Pausenzeit für Gespräche mit netten Menschen nutzen. Über Büro- und Stadtgrenzen hinweg essen wir zusammen Mittag\, unterhalten uns und knüpfen Kontakte – eine offene Mittagspause für jedermann. \nDieses Format findet jeweils am ersten Mittwoch des Monats von 12:00 bis 13:00 Uhr statt. Jede Mittagspause steht unter einem bestimmten Thema. Es geht voranging nicht darum\, Vorträgen zu lauschen. Vielmehr steht der fachliche Austausch im Vordergrund. Erfahren Sie\, welche Möglichkeiten und Chancen\, aber auch Herausforderungen digitale Anwendungen umfassen. Wir laden hierfür themenspezifische Impulsgeber und Best-Practice-Beispiele ein. \n\nDas Thüringer Kompetenzzentrum Wirtschaft 4.0 und das Mittelstand-Digital Zentrum Ilmenau laden Sie recht herzlich zur Digitalen Mittagspause Vol. 11 am 02.03.2021 ein. \n\n\nThema: Digitale Messtechnik im Fertigungsumfeld \nDie Qualität gefertigter Bauteile unterliegt stetig wachsenden Anforderungen hinsichtlich Oberflächengüte und Maßhaltigkeit. Wie können kleine und mittelständische Unternehmen diesen steigenden Anforderungen bei gleichzeitig wachsender Komplexität und Flexibilität der Bearbeitungsprozesse gerecht werden? Anhand von Beispielen aus der Modellfabrik Prozessdaten werden Möglichkeiten und Chancen mittels digitaler Messtechnik im Fertigungsumfeld aufgezeigt. \nMittelstand-Digital Zentrum Ilmenau\, Modellfabrik Prozessdaten \nVertreter: Benjamin Hoffmann \nKonferenztool: MS Teams \nHinweise: Bitte beachten Sie\, dass Ihre Anmeldedaten aufgrund der Zusammenarbeit und daher einhergehend öffentlichen Förderung beider Zentren miteinander ausgetauscht werden. Ihre Daten werden nicht an Dritte weitergegeben und ausschließlich im Veranstaltungskontext verwendet. Melden Sie sich nur zur Veranstaltung an\, wenn Sie damit einverstanden sind. \nDie Einwahldaten sowie ergänzende technische Informationen erhalten alle angemeldeten Teilnehmer*innen einen Tag vor der Veranstaltung. Für die Teilnahme ist keine spezifische technische Ausstattung notwendig.
URL:https://www.zentrum-ilmenau.digital/veranstaltung/digitale-mittagspause-vol-11-digitale-messtechnik-im-fertigungsumfeld/
LOCATION:Online
CATEGORIES:Onlinekonferenz
ATTACH;FMTTYPE=image/jpeg:https://www.zentrum-ilmenau.digital/wp-content/uploads/2021/12/Beitragsbild-DiMi-Vol.11-2PYbzy.tmp_.jpg
END:VEVENT
BEGIN:VEVENT
DTSTART;TZID=Europe/Berlin:20220308T100000
DTEND;TZID=Europe/Berlin:20220308T113000
DTSTAMP:20260423T015848
CREATED:20220118T084113Z
LAST-MODIFIED:20220224T122341Z
UID:9345-1646733600-1646739000@www.zentrum-ilmenau.digital
SUMMARY:KI-Frühling 2022: KI-basierte Bilderkennung – Einsatz im Unternehmenskontext
DESCRIPTION:Veranstaltungsbeschreibung:\nDie Veranstaltung richtet sich an KMU\, die sich für den Einsatz von KI-basierter Bilderkennung interessieren. Es wird eine kurze Einführung in die Thematik gegeben und darauf aufbauend werden innerhalb von zwei praxisnahen Live-Demonstrationen Verfahren für die Erkennung von Bauteilen und Baugruppen präsentiert. Darüber hinaus wird ein Anwendungsbeispiel vorgestellt\, das aufzeigt\, wie die Kombination aus Deep-Learning- Verfahren und Robotertechnik für die Inline-Prüfung von Spritzgussteilen genutzt werden kann. In der Veranstaltung werden Impulse für die vielfältigen Einsatzmöglichkeiten der Vorgestellten Methoden gegeben und es wird aufgezeigt\, wie mögliche Hürden bei der Einführung überwunden werden können. \nVeranstaltungsziel:\n▪ Vermittlung eines Grundverständnisses für KI-basierte Bilderkennung\n▪ Praxisorientierte Präsentation von Anwendungsbeispielen für KMU\, insbesondere im Bereich der KI-basierten Erkennung von Bauteilen und Baugruppen und der Inline-Prüfung von Spritzgussteilen\n▪ Aufzeigen von Herausforderungen und Grenzen \nAgenda:\n▪ Kurze Erläuterung von Grundlagen der KI-basierten Bilderkennung\n▪ Vorführung eines Demonstrators zur Erkennung von Bauteilen für die Beschleunigung manueller Sortierverfahren\n▪ Vorführung eines Demonstrators zur Bildklassifizierung von Baugruppen für die Fehlerminimierung bei der Kommissionierung\n▪ Vorstellung eines Anwendungsbeispiels im Bereich der Robotertechnik und Deep-Learning im Bereich der Inline-Prüfung von Spritzgussteilen\n▪ Austausch und Diskussion \n  \n Begrenzung der Teilnehmerzahl: Unbegrenzt \nPartner: Mittelstand-Digital Zentrum Ilmenau & Chemnitz \n Namen der Referenten: Patrick Ongom-Along (KI-Trainer) | Martin Folz (KI-Trainer) | Daniel Garten (KI-Trainer) \n Zielgruppe: Einsteiger:innen \n Format: Online\, Konferenztool: Cisco Webex \n  \nHinweise: Bitte beachten Sie\, dass Ihre Anmeldedaten aufgrund der Zusammenarbeit und daher einhergehend öffentlichen Förderung der Zentren miteinander ausgetauscht werden. Ihre Daten werden nicht an Dritte weitergegeben und ausschließlich im Veranstaltungskontext verwendet. Melden Sie sich nur zur Veranstaltung an\, wenn Sie damit einverstanden sind. \nDie Einwahldaten sowie ergänzende technische Informationen erhalten alle angemeldeten Teilnehmer*innen einen Tag vor der Veranstaltung. Für die Teilnahme ist keine spezifische technische Ausstattung notwendig.
URL:https://www.zentrum-ilmenau.digital/veranstaltung/ki-fruehling-2022-ki-basierte-bilderkennung-einsatz-im-unternehmenskontext/
LOCATION:Online
CATEGORIES:KI-Frühling,KI-Hub
ATTACH;FMTTYPE=image/jpeg:https://www.zentrum-ilmenau.digital/wp-content/uploads/2022/01/Beitragsbild-KI-Fruehling-VADOB7.tmp_-scaled.jpg
END:VEVENT
BEGIN:VEVENT
DTSTART;TZID=Europe/Berlin:20220324T140000
DTEND;TZID=Europe/Berlin:20220324T153000
DTSTAMP:20260423T015848
CREATED:20220118T084114Z
LAST-MODIFIED:20220324T171650Z
UID:9349-1648130400-1648135800@www.zentrum-ilmenau.digital
SUMMARY:KI-Frühling 2022: Datens(ch)atz: Mit Daten zum KI-Einsatz
DESCRIPTION:Veranstaltungsbeschreibung:\nGerade in der Coronakrise ist die Bedeutung der Digitalisierung und vor allem der Datenerfassung für Wirtschaft und Industrie nochmals enorm gestiegen. Dabei sind Daten zudem Grundvoraussetzung\, um KI erfolgreich im eigenen Unternehmen einsetzen zu können. Die Referenten vermitteln den Teilnehmenden Grundlagen über die Datenerfassung bis hin zum Einsatz von KI. Sie erhalten zudem einen Einblick\, wie Sie die Daten in ihrem Unternehmen bereits heute nutzen und dadurch Potentiale ausschöpfen können. Best Practice aus dem Mittelstand verdeutlichen dabei mögliche Herausforderungen. Darüber hinaus gehen die Referenten auf konkrete Fragen ein und geben praktische Tipps zum jeweiligen Digitalisierungsvorhaben. \nVeranstaltungsziel:\nNach dem Workshop haben die Teilnehmenden ein Grundverständnis für Daten\, den Datenkreislauf sowie deren Relevanz für den Einsatz von KI und können erste Ansatzpunkte zur Erfassung\, Analyse und Auswertung von Daten im eigenen Unternehmen identifizieren sowie mögliche KI-Anwendungsfälle bestimmen. \nAgenda:\n▪ Konkrete Unterstützung des Mittelstandes – Mittelstand Digital Zentrum Kaiserslautern\n▪ Daten – unendliche Potentiale?\n▪ Die Phasen des Datenworkflow\n▪ Daten & KI\n▪ Best Practices: Datennutzung und KI in KMU\n▪ Fragerunde und Diskussion \n  \nBegrenzung der Teilnehmerzahl: unbegrenzt \nPartner: Mittelstand-Digitalzentrum Kaiserslautern  \nName der Referenten: Manuel Heid (KI-Trainer) | Christian Vollmer (KI-Trainer) \nZielgruppe: Einsteiger:innen\, Fortgeschrittene \nFormat: Online\, Konferenztool: Zoom \n  \nHinweise: Bitte beachten Sie\, dass Ihre Anmeldedaten aufgrund der Zusammenarbeit und daher einhergehend öffentlichen Förderung der Zentren miteinander ausgetauscht werden. Ihre Daten werden nicht an Dritte weitergegeben und ausschließlich im Veranstaltungskontext verwendet. Melden Sie sich nur zur Veranstaltung an\, wenn Sie damit einverstanden sind. \nDie Einwahldaten sowie ergänzende technische Informationen erhalten alle angemeldeten Teilnehmer*innen einen Tag vor der Veranstaltung. Für die Teilnahme ist keine spezifische technische Ausstattung notwendig.
URL:https://www.zentrum-ilmenau.digital/veranstaltung/ki-fruehling-2022-datenschatz-mit-daten-zum-ki-einsatz/
LOCATION:Online
CATEGORIES:KI-Frühling
ATTACH;FMTTYPE=image/jpeg:https://www.zentrum-ilmenau.digital/wp-content/uploads/2022/01/Beitragsbild-KI-Fruehling-VADOB7.tmp_-scaled.jpg
END:VEVENT
BEGIN:VEVENT
DTSTART;TZID=Europe/Berlin:20220329T100000
DTEND;TZID=Europe/Berlin:20220329T113000
DTSTAMP:20260423T015848
CREATED:20220118T084114Z
LAST-MODIFIED:20220324T171650Z
UID:9350-1648548000-1648553400@www.zentrum-ilmenau.digital
SUMMARY:KI-Frühling 2022: Kckbox – Präsentation eines neuen Tools
DESCRIPTION:Veranstaltungsbeschreibung:\n▪ Vorstellung der KI-Kickbox durch HS-Nordhausen\n▪ Dieses Projekt entsteht im Rahmen einer Lehrveranstaltung bis Februar 2022 und soll dem TZLR dienen\, die ersten Schritte in der Zusammenarbeit mit KMU zu vereinheitlichen und vereinfachen. \nVeranstaltungsziel:\n▪ Was steckt hinter der generellen Idee der Kickbox?\n▪ Präsentation des Aufbaus und Inhalte der Kckbox \nAgenda:\n▪ 10-15 Min. Einführung (TZLR oder Prof. Lutz Göcke)\n▪ 30 Min. interaktive Beispielnutzung der Kickbox mit Input von den Zuschauern \n  \nBegrenzung der Teilnehmerzahl: unbegrenzt \nPartner: Thüringer Zentrum für Lernende Systeme und Robotik & Hochschule Nordhausen \nName des/r Referent:innen: Johann Lembach\, Lutz Göcke\, David Gehrke + Projekt-Gruppe \nZielgruppe: Einsteiger:innen\, Fortgeschrittene\, Expert:innen \nFormat: Online\, Konferenztool: Cisco Webex \n  \nHinweise: Bitte beachten Sie\, dass Ihre Anmeldedaten aufgrund der Zusammenarbeit und daher einhergehend öffentlichen Förderung der Zentren miteinander ausgetauscht werden. Ihre Daten werden nicht an Dritte weitergegeben und ausschließlich im Veranstaltungskontext verwendet. Melden Sie sich nur zur Veranstaltung an\, wenn Sie damit einverstanden sind. \nDie Einwahldaten sowie ergänzende technische Informationen erhalten alle angemeldeten Teilnehmer*innen einen Tag vor der Veranstaltung. Für die Teilnahme ist keine spezifische technische Ausstattung notwendig.
URL:https://www.zentrum-ilmenau.digital/veranstaltung/ki-fruehling-2022-kckbox-praesentation-eines-neuen-tools/
LOCATION:Online
CATEGORIES:KI-Frühling
ATTACH;FMTTYPE=image/jpeg:https://www.zentrum-ilmenau.digital/wp-content/uploads/2022/01/Beitragsbild-KI-Fruehling-VADOB7.tmp_-scaled.jpg
END:VEVENT
BEGIN:VEVENT
DTSTART;TZID=Europe/Berlin:20220331T140000
DTEND;TZID=Europe/Berlin:20220331T153000
DTSTAMP:20260423T015848
CREATED:20220118T084114Z
LAST-MODIFIED:20220324T171651Z
UID:9351-1648735200-1648740600@www.zentrum-ilmenau.digital
SUMMARY:KI-Frühling 2022: KI-Startups in Thüringen
DESCRIPTION:Veranstaltungsbeschreibung:\nPaneldiskussion mit Teilnehmer*innen aus Thüringer KI-Startups und jungen KI-Unternehmen \nVeranstaltungsziel:\n▪ Überblick über Startup Landschaft\n▪ Mögliche Dienstleister für KMU aus anderen Bereichen\n▪ Motivation zur Innovation \nAgenda:\n▪ 45-50 Min. Paneldiskussion (geleitet von TZLR und/oder Ilmkubator)\n▪ 10-15 Min. offene Diskussion mit Zuschauer*innen \n  \nBegrenzung der Teilnehmerzahl: unbegrenzt \nPartner: Thüringer Zentrum für Lernende Systeme und Robotik & KI-Startups aus Thüringen \nName des/r Referent:innen: Johann Lembach & verschiedene Unternehmensvertreter:innen \nZielgruppe: Einsteiger:innen\, Fortgeschrittene\, Expert:innen \nFormat: Online\, Konferenztool: Cisco Webex \n  \nHinweise: Bitte beachten Sie\, dass Ihre Anmeldedaten aufgrund der Zusammenarbeit und daher einhergehend öffentlichen Förderung der Zentren miteinander ausgetauscht werden. Ihre Daten werden nicht an Dritte weitergegeben und ausschließlich im Veranstaltungskontext verwendet. Melden Sie sich nur zur Veranstaltung an\, wenn Sie damit einverstanden sind. \nDie Einwahldaten sowie ergänzende technische Informationen erhalten alle angemeldeten Teilnehmer*innen einen Tag vor der Veranstaltung. Für die Teilnahme ist keine spezifische technische Ausstattung notwendig.
URL:https://www.zentrum-ilmenau.digital/veranstaltung/ki-fruehling-2022-ki-startups-in-thueringen/
LOCATION:Online
CATEGORIES:KI-Frühling
ATTACH;FMTTYPE=image/jpeg:https://www.zentrum-ilmenau.digital/wp-content/uploads/2022/01/Beitragsbild-KI-Fruehling-VADOB7.tmp_-scaled.jpg
END:VEVENT
END:VCALENDAR