BEGIN:VCALENDAR
VERSION:2.0
PRODID:-//Mittelstand-Digital Zentrum Ilmenau - ECPv6.15.17//NONSGML v1.0//EN
CALSCALE:GREGORIAN
METHOD:PUBLISH
X-ORIGINAL-URL:https://www.zentrum-ilmenau.digital
X-WR-CALDESC:Veranstaltungen für Mittelstand-Digital Zentrum Ilmenau
REFRESH-INTERVAL;VALUE=DURATION:PT1H
X-Robots-Tag:noindex
X-PUBLISHED-TTL:PT1H
BEGIN:VTIMEZONE
TZID:Europe/Berlin
BEGIN:DAYLIGHT
TZOFFSETFROM:+0100
TZOFFSETTO:+0200
TZNAME:CEST
DTSTART:20240331T010000
END:DAYLIGHT
BEGIN:STANDARD
TZOFFSETFROM:+0200
TZOFFSETTO:+0100
TZNAME:CET
DTSTART:20241027T010000
END:STANDARD
BEGIN:DAYLIGHT
TZOFFSETFROM:+0100
TZOFFSETTO:+0200
TZNAME:CEST
DTSTART:20250330T010000
END:DAYLIGHT
BEGIN:STANDARD
TZOFFSETFROM:+0200
TZOFFSETTO:+0100
TZNAME:CET
DTSTART:20251026T010000
END:STANDARD
BEGIN:DAYLIGHT
TZOFFSETFROM:+0100
TZOFFSETTO:+0200
TZNAME:CEST
DTSTART:20260329T010000
END:DAYLIGHT
BEGIN:STANDARD
TZOFFSETFROM:+0200
TZOFFSETTO:+0100
TZNAME:CET
DTSTART:20261025T010000
END:STANDARD
END:VTIMEZONE
BEGIN:VEVENT
DTSTART;TZID=Europe/Berlin:20251106T100000
DTEND;TZID=Europe/Berlin:20251106T113000
DTSTAMP:20260420T193638
CREATED:20250820T083317Z
LAST-MODIFIED:20250820T083317Z
UID:26406-1762423200-1762428600@www.zentrum-ilmenau.digital
SUMMARY:Künstlich. Intelligent. Authentisch? KI in der Unternehmenskommunikation.
DESCRIPTION:Künstliche Intelligenz verändert die Art\, wie Unternehmen kommunizieren: Viele Inhalte werden bereits automatisiert erstellt – gleichzeitig ändert sich das Suchverhalten der Nutzenden rasant. Und zwischen Innovation\, Effizienz und Informationsflut droht das Menschliche zu verschwinden. \n\n\n\n\nAm 6. November 2025 von 10:00 bis 11:30 Uhr laden wir Sie herzlich zu einem kompakten Online-Event ein\, das Klarheit schafft\, Orientierung gibt und konkrete Strategien aufzeigt\, wie authentische Kommunikation mit – und trotz – KI gelingen kann. \n\n\n\n\nDabei stehen drei zentrale Fragen im Fokus: \n\nWie verändert sich die Sichtbarkeit Ihrer Online-Inhalte durch KI-Suchsysteme wie Perplexity oder Google Overviews?\nWie gelingt es Unternehmen\, trotz KI-generierter Inhalte ihre eigene Stimme\, ihren Stil und ihre Markenidentität zu bewahren?\nUnd wie können Unternehmen Vertrauen und Beziehung aufrechterhalten\, wenn Kund:innen mit Algorithmen statt mit Menschen interagieren?\n\n\n\n\n\nMelden Sie sich jetzt an und erfahren Sie\, wie Sie Ihre Unternehmenskommunikation mit KI zukunftsfähig\, glaubwürdig und menschlich gestalten können. \nAgenda\n\n\n\n\n\n\n\nWie KI das Suchverhalten verändert – und was das für Ihre Auffindbarkeit bedeutet\n\n\n\nDigitale Suchsysteme verändern sich rasant – klassische SEO-Strategien greifen nicht mehr wie gewohnt. Wir zeigen Ihnen\, wie Tools wie Google AI Overviews oder Perplexity Inhalte bewerten\, was das für die Sichtbarkeit von Unternehmen bedeutet und welche Rolle semantische Klarheit dabei spielt. Lernen Sie\, wie Sie trotz neuer technischer Spielregeln auffindbar\, relevant und glaubwürdig bleiben. \n\n\n\n\n\n\n\n\n\n\n\n\nWas Maschinen nie erzählen können – und wie Ihre Marke trotzdem gehört wird\n\n\n\n\nSkalierbarer Content auf Knopfdruck? Ja. Aber was bleibt vom Menschlichen\, wenn KI (fast) alles sagen kann? Michael Berg beleuchtet\, warum Tonalität\, Haltung und Flavour das neue Unterscheidungsmerkmal in der Kommunikation sind und wie Unternehmen ihre Markenstimme auch in KI-generierten Inhalten bewahren. Sie lernen\, wie Sie trotz KI-Einsatz unverwechselbar kommunizieren – und Ihre Zielgruppe nicht mit generischem Content verlieren. \n\n\nZwischen Automatisierung und Vertrauen – wie KI-Kommunikation persönlich bleibt\n\n\n\n\nKönnen Chatbots Vertrauen aufbauen? Und wie transparent müssen Unternehmen machen\, wenn Algorithmen sprechen? Dr. Ninette Florschütz  nimmt Sie mit in die Praxis menschlich geprägter KI-Kommunikation. \nIm Fokus: Der bewusste Umgang mit maschineller Interaktion\, ethische Orientierungspunkte und konkrete Strategien\, wie Kundenbeziehung\, Offenheit und Verantwortung auch im KI-Zeitalter gelingen. Sie erhalten Orientierung\, wie Sie KI verantwortungsvoll einsetzen – ohne Authentizität und Vertrauen aufs Spiel zu setzen. \n\nBei Fragen zur Veranstaltung wenden Sie sich gern an: \nDr. Ninette Florschütz\nModellfabrik Vernetzung\nTelefon: +49 3677 69-5076\nE-Mail: florschuetz@kompetenzzentrum-ilmenau.de
URL:https://www.zentrum-ilmenau.digital/veranstaltung/kuenstlich-intelligent-authentisch-ki-in-der-unternehmenskommunikation/
LOCATION:Online
CATEGORIES:Extern
ATTACH;FMTTYPE=image/jpeg:https://www.zentrum-ilmenau.digital/wp-content/uploads/2025/08/Titelbild-Veranstaltung.jpg
ORGANIZER;CN="Mittelstand-Digital Zentrum Ilmenau":MAILTO:info@kompetenzzentrum-ilmenau.digital
END:VEVENT
BEGIN:VEVENT
DTSTART;TZID=Europe/Berlin:20251114T110000
DTEND;TZID=Europe/Berlin:20251114T123000
DTSTAMP:20260420T193638
CREATED:20250612T162604Z
LAST-MODIFIED:20251107T090916Z
UID:25752-1763118000-1763123400@www.zentrum-ilmenau.digital
SUMMARY:Werkstattreihe "KI-Pioniere in der Unternehmenskommunikation" - Teil 9: Ask "My Social Assist"
DESCRIPTION:Was wäre\, wenn fundiertes B2B-Social-Media-Wissen jederzeit abrufbar wäre? Mit einem eigenen Social Bot hat sich die Münchner Agentur ALTHALLER communication selbst ein KI-gestütztes Tool entwickelt\, das genau das ermöglicht: Typische Fragestellungen aus der B2B-Kommunikation schnell\, nachvollziehbar und datenbasiert zu beantworten. \nDas Modell basiert auf einer Langzeitstudie zur Social-Media-Nutzung im B2B-Bereich im deutschsprachigen Raum. Ziel der Studie ist es\, sowohl den internen Teams als auch den Kunden eine belastbare Orientierung zu bieten – etwa zu Fragen wie: Welche Plattformen werden genutzt? Welche Inhalte erzielen Wirkung? Wie entwickeln sich Strategie\, Organisation und Ressourceneinsatz über die Jahre? \nDie Veranstaltung richtet sich an Kommunikationsverantwortliche in B2B-Organisationen\, die sich mit dem strukturellen Wandel von Social Media auf Basis empirischer Daten auseinandersetzen möchten. Im Werkstattgespräch berichtet Projektleiterin Jacqueline Althaller\, wie die Idee zum eigenen KI-Bot entstand\, auf welchen Daten er basiert und wie er in die Agentur-Praxis integriert wurde. Teilnehmende erhalten Einblick in die Entwicklung des Tools und können es live mit eigenen Fragen testen. \nDer Referentin: \n\n\n\n\n\n\n  \nJacqueline  Althaller \n… ist Beraterin für Marktkommunikation und Inhaberin von ALTHALLER communication. Sie betreut dort den Bereich strategische KI-Anwendungen. Im Mittelpunkt ihrer Arbeit steht die Verbindung von empirischer Datengrundlage und digitaler Beratungstechnologie. Als Projektleiterin von „Ask my social assist“ begleitet sie die Weiterentwicklung der gleichnamigen Anwendung\, die auf 15 Jahren Studienarbeit des Ersten Arbeitskreises „Social Media in der B2B-Kommunikation“ basiert. \n\n  \nUnter dem Titel „KI Pioniere in der Unternehmenskommunikation“ bietet das Mittelstand Digital Zentrum Ilmenau eine neue virtuelle Werkstattreihe an. Die Teilnehmer erwartet eine Reihe von Impulsvorträgen\, die Einblicke in den erfolgreichen Einsatz von künstlicher Intelligenz in die Kommunikationspraxis bieten. \nWorum geht´s? \nUnsere Referenten teilen ihre wertvollen Erfahrungen: Erfahren Sie direkt aus den Unternehmen\, wie Entscheider künstliche Intelligenz erfolgreich in ihre Unternehmenskommunikation eingebunden haben. Freuen Sie sich auf praxisorientierte Einblicke in die Prozessgestaltung zur Implementierung sowie in die Bewältigung von Herausforderungen während dieses Veränderungsprozesses. \nZiele der Veranstaltungsreihe \nDie 90-minütigen Webinare vermitteln fundierte Grundlagen und praxisnahes Wissen zur Integration von KI-Tools in bestehende Kommunikationsprozesse. Die TeilnehmerInnen lernen unterschiedliche Anwendungsszenarien künstlicher Intelligenz sowie Grundlagen für die Prozessgestaltung und die erfolgreiche Integration von KI in die Arbeitsroutine kennen. Sie erfahren\, welche relevanten Fragen zur Auswahl und Integration von KI-Tools zu stellen sind. Sie erhalten Insights zu auftretenden Hürden\, Risiken und Mehrwerten und erhalten Anregungen dazu\,  wie auftretende Schwierigkeiten im Umsetzungsprozess bewertet und zu beseitigt werden können. \nZielgruppen \nDiese Veranstaltungsreihe richtet sich speziell an UnternehmerInnen\, GeschäftsführerInnen ProjektleiterInnen und Mitarbeitende aus Marketing und Vertrieb sowie alle Interessierten aus kleinen und mittleren Unternehmen (KMU). Grundlegende Vorkenntnisse zur Funktionsweise und erste Erfahrungen mit künstlicher Intelligenz werden vorausgesetzt. \nWerden Sie Teil der KI-Pioniere in der Unternehmenskommunikation! \nLassen Sie sich inspirieren und holen Sie sich wertvolle Impulse zur Weiterentwicklung Ihrer eigenen Unternehmenskommunikation! \n👉 Weitere anstehende Veranstaltungen der Reihe finden Sie hier. \nBei Fragen zur Veranstaltung wenden Sie sich gern an: \nDr. Ninette Florschütz\nModellfabrik Vernetzung\nTelefon: +49 3677 69-5076\nE-Mail: florschuetz@kompetenzzentrum-ilmenau.de
URL:https://www.zentrum-ilmenau.digital/veranstaltung/werkstattreihe-ki-pioniere-in-der-unternehmenskommunikation-teil-8-ask-my-social-assist/
LOCATION:Online
CATEGORIES:eigene Veranstaltung,KI-Hub,KI-Pioniere,Stammtisch
ATTACH;FMTTYPE=image/jpeg:https://www.zentrum-ilmenau.digital/wp-content/uploads/2025/06/Social_Assist.jpg
ORGANIZER;CN="Mittelstand-Digital Zentrum Ilmenau":MAILTO:info@kompetenzzentrum-ilmenau.digital
END:VEVENT
END:VCALENDAR