BEGIN:VCALENDAR
VERSION:2.0
PRODID:-//Mittelstand-Digital Zentrum Ilmenau - ECPv6.15.17//NONSGML v1.0//EN
CALSCALE:GREGORIAN
METHOD:PUBLISH
X-WR-CALNAME:Mittelstand-Digital Zentrum Ilmenau
X-ORIGINAL-URL:https://www.zentrum-ilmenau.digital
X-WR-CALDESC:Veranstaltungen für Mittelstand-Digital Zentrum Ilmenau
REFRESH-INTERVAL;VALUE=DURATION:PT1H
X-Robots-Tag:noindex
X-PUBLISHED-TTL:PT1H
BEGIN:VTIMEZONE
TZID:Europe/Berlin
BEGIN:DAYLIGHT
TZOFFSETFROM:+0100
TZOFFSETTO:+0200
TZNAME:CEST
DTSTART:20240331T010000
END:DAYLIGHT
BEGIN:STANDARD
TZOFFSETFROM:+0200
TZOFFSETTO:+0100
TZNAME:CET
DTSTART:20241027T010000
END:STANDARD
BEGIN:DAYLIGHT
TZOFFSETFROM:+0100
TZOFFSETTO:+0200
TZNAME:CEST
DTSTART:20250330T010000
END:DAYLIGHT
BEGIN:STANDARD
TZOFFSETFROM:+0200
TZOFFSETTO:+0100
TZNAME:CET
DTSTART:20251026T010000
END:STANDARD
BEGIN:DAYLIGHT
TZOFFSETFROM:+0100
TZOFFSETTO:+0200
TZNAME:CEST
DTSTART:20260329T010000
END:DAYLIGHT
BEGIN:STANDARD
TZOFFSETFROM:+0200
TZOFFSETTO:+0100
TZNAME:CET
DTSTART:20261025T010000
END:STANDARD
END:VTIMEZONE
BEGIN:VEVENT
DTSTART;TZID=Europe/Berlin:20250912T110000
DTEND;TZID=Europe/Berlin:20250912T123000
DTSTAMP:20260420T231108
CREATED:20250612T160519Z
LAST-MODIFIED:20250912T083100Z
UID:25749-1757674800-1757680200@www.zentrum-ilmenau.digital
SUMMARY:Werkstattreihe "KI-Pioniere in der Unternehmenskommunikation" - Teil 7: KI in Aktion - Ein Erfahrungsbericht zur Chatbot-Integration
DESCRIPTION:[ ANMELDUNG ] \n  \nWie gelingt der erfolgreiche\, sichere und alltagstaugliche Einsatz generativer KI in einem technologiegetriebenen Unternehmen? Im siebten Teil der Werkstattreihe gibt Dr. Frank Nussbaum\, Data Scientist bei Jenoptik\, exklusive Einblicke in die KI-Reise eines internationalen Hightech-Unternehmens – von der Idee bis zum unternehmensinternen Chatbot. \nDie Teilnehmer erwarten nicht nur praxisnahe Anwendungsbeispiele\, sondern auch wertvolle Learnings zu Chancen\, Grenzen und strategischen Entscheidungen rund um den KI-Einsatz. Ein Mini-Workshop-Element lädt zur gemeinsamen Reflexion eigener Workflows und Einsatzszenarien ein – interaktiv\, konkret und inspirierend. \nDer Referent: \n\n\n\n\n\n\n  \nDr. Frank Nussbaum \n… ist Data Scientist bei der Jenoptik AG und verantwortet dort strategische Initiativen im Bereich generativer KI. Als Teil des internen AI Consulting-Teams treibt er die Entwicklung und Einführung von KI-Anwendungen voran\, mit besonderem Fokus auf Kommunikations- und Wissensprozesse im Unternehmen. Sein besonderes Interesse gilt der sicheren Integration von LLMs (Large Language Models) in unternehmenseigene Systeme sowie der nutzerzentrierten Unterstützung von Mitarbeitenden durch KI-gestützte Assistenten. \n\n  \nUnter dem Titel „KI Pioniere in der Unternehmenskommunikation“ bietet das Mittelstand Digital Zentrum Ilmenau eine neue virtuelle Werkstattreihe an. Die Teilnehmer erwartet eine Reihe von Impulsvorträgen\, die Einblicke in den erfolgreichen Einsatz von künstlicher Intelligenz in die Kommunikationspraxis bieten. \nWorum geht´s? \nUnsere Referenten teilen ihre wertvollen Erfahrungen: Erfahren Sie direkt aus den Unternehmen\, wie Entscheider künstliche Intelligenz erfolgreich in ihre Unternehmenskommunikation eingebunden haben. Freuen Sie sich auf praxisorientierte Einblicke in die Prozessgestaltung zur Implementierung sowie in die Bewältigung von Herausforderungen während dieses Veränderungsprozesses. \nZiele der Veranstaltungsreihe \nDie 90-minütigen Webinare vermitteln fundierte Grundlagen und praxisnahes Wissen zur Integration von KI-Tools in bestehende Kommunikationsprozesse. Die TeilnehmerInnen lernen unterschiedliche Anwendungsszenarien künstlicher Intelligenz sowie Grundlagen für die Prozessgestaltung und die erfolgreiche Integration von KI in die Arbeitsroutine kennen. Sie erfahren\, welche relevanten Fragen zur Auswahl und Integration von KI-Tools zu stellen sind. Sie erhalten Insights zu auftretenden Hürden\, Risiken und Mehrwerten und erhalten Anregungen dazu\,  wie auftretende Schwierigkeiten im Umsetzungsprozess bewertet und zu beseitigt werden können. \nZielgruppen \nDiese Veranstaltungsreihe richtet sich speziell an UnternehmerInnen\, GeschäftsführerInnen ProjektleiterInnen und Mitarbeitende aus Marketing und Vertrieb sowie alle Interessierten aus kleinen und mittleren Unternehmen (KMU). Grundlegende Vorkenntnisse zur Funktionsweise und erste Erfahrungen mit künstlicher Intelligenz werden vorausgesetzt. \nWerden Sie Teil der KI-Pioniere in der Unternehmenskommunikation! \nLassen Sie sich inspirieren und holen Sie sich wertvolle Impulse zur Weiterentwicklung Ihrer eigenen Unternehmenskommunikation! \n👉 Weitere anstehende Veranstaltungen der Reihe finden Sie hier. \nBei Fragen zur Veranstaltung wenden Sie sich gern an: \nDr. Ninette Florschütz\nModellfabrik Vernetzung\nTelefon: +49 3677 69-5076\nE-Mail: florschuetz@kompetenzzentrum-ilmenau.de \n\n\n\n\n  \n[ ANMELDUNG ] \n 
URL:https://www.zentrum-ilmenau.digital/veranstaltung/werkstattreihe-ki-pioniere-in-der-unternehmenskommunikation-teil-7-ki-in-aktion-ein-erfahrungsbericht-zur-chatbot-integration/
LOCATION:Online
CATEGORIES:eigene Veranstaltung,KI-Hub,KI-Pioniere,Stammtisch
ATTACH;FMTTYPE=image/jpeg:https://www.zentrum-ilmenau.digital/wp-content/uploads/2025/06/Folie1.jpg
ORGANIZER;CN="Mittelstand-Digital Zentrum Ilmenau":MAILTO:info@kompetenzzentrum-ilmenau.digital
END:VEVENT
END:VCALENDAR