BEGIN:VCALENDAR
VERSION:2.0
PRODID:-//Mittelstand-Digital Zentrum Ilmenau - ECPv6.15.17//NONSGML v1.0//EN
CALSCALE:GREGORIAN
METHOD:PUBLISH
X-ORIGINAL-URL:https://www.zentrum-ilmenau.digital
X-WR-CALDESC:Veranstaltungen für Mittelstand-Digital Zentrum Ilmenau
REFRESH-INTERVAL;VALUE=DURATION:PT1H
X-Robots-Tag:noindex
X-PUBLISHED-TTL:PT1H
BEGIN:VTIMEZONE
TZID:Europe/Berlin
BEGIN:DAYLIGHT
TZOFFSETFROM:+0100
TZOFFSETTO:+0200
TZNAME:CEST
DTSTART:20210328T010000
END:DAYLIGHT
BEGIN:STANDARD
TZOFFSETFROM:+0200
TZOFFSETTO:+0100
TZNAME:CET
DTSTART:20211031T010000
END:STANDARD
BEGIN:DAYLIGHT
TZOFFSETFROM:+0100
TZOFFSETTO:+0200
TZNAME:CEST
DTSTART:20220327T010000
END:DAYLIGHT
BEGIN:STANDARD
TZOFFSETFROM:+0200
TZOFFSETTO:+0100
TZNAME:CET
DTSTART:20221030T010000
END:STANDARD
BEGIN:DAYLIGHT
TZOFFSETFROM:+0100
TZOFFSETTO:+0200
TZNAME:CEST
DTSTART:20230326T010000
END:DAYLIGHT
BEGIN:STANDARD
TZOFFSETFROM:+0200
TZOFFSETTO:+0100
TZNAME:CET
DTSTART:20231029T010000
END:STANDARD
END:VTIMEZONE
BEGIN:VEVENT
DTSTART;TZID=Europe/Berlin:20220830T140000
DTEND;TZID=Europe/Berlin:20220830T170000
DTSTAMP:20260420T190852
CREATED:20220713T132847Z
LAST-MODIFIED:20220824T081319Z
UID:11032-1661868000-1661878800@www.zentrum-ilmenau.digital
SUMMARY:Einladung zum Praxisgespräch: KI - mit Sicherheit?!
DESCRIPTION:Systeme künstlicher Intelligenz\, Maschinen und Produkte die Algorithmen anwenden und datenbasiert Entscheidungen treffen sind heute schon Bestandteil unseres beruflichen und privaten Alltags.\nWie wollen wir zukünftig damit umgehen?\nIn unserem ersten gemeinsamen Praxisgespräch unter dem Motto „KI – mit Sicherheit?!“ wollen wir folgenden Punkten auf den Grund gehen: \n\nKann KI dabei helfen\, Verschmutzungen beim Zusammenfügen von Aluminium und Kupfer zu erkennen?\nKönnen die Ergebnisse eines KI-Systems sicher verifiziert werden?\nWie kann man Verlässlichkeit und Leistungsfähigkeit von KI prüfen und zertifizieren?\nWas ist der aktuelle Stand der regulativen Entwicklung?\n\nEs erwarten Sie Impulsvorträge und Austausch rund um die Themen KI und deren sicherer Einsatz. Wenn Sie Fragen zur Veranstaltung oder den Themen haben\, kontaktieren Sie mich gern unter: sascha.doerfel@tuev-tueringen.de \nDen Flyer zur Veranstaltung finden Sie hier. \nWir begrüßen eine verbindliche Anmeldung bis spätestens 26.08.2022.
URL:https://www.zentrum-ilmenau.digital/veranstaltung/einladung-zum-praxisgespraech-ki-mit-sicherheit/
LOCATION:TÜV Thüringen Servicecenter Jena\, Ernst-Ruska Ring 6\, Jena\, Thüringen\, 07745\, Deutschland
CATEGORIES:KI-Hub
ATTACH;FMTTYPE=image/jpeg:https://www.zentrum-ilmenau.digital/wp-content/uploads/2022/03/KI.jpg
ORGANIZER;CN="Mittelstand-Digital Zentrum Ilmenau":MAILTO:info@kompetenzzentrum-ilmenau.digital
END:VEVENT
END:VCALENDAR