BEGIN:VCALENDAR
VERSION:2.0
PRODID:-//Mittelstand-Digital Zentrum Ilmenau - ECPv6.15.17//NONSGML v1.0//EN
CALSCALE:GREGORIAN
METHOD:PUBLISH
X-WR-CALNAME:Mittelstand-Digital Zentrum Ilmenau
X-ORIGINAL-URL:https://www.zentrum-ilmenau.digital
X-WR-CALDESC:Veranstaltungen für Mittelstand-Digital Zentrum Ilmenau
REFRESH-INTERVAL;VALUE=DURATION:PT1H
X-Robots-Tag:noindex
X-PUBLISHED-TTL:PT1H
BEGIN:VTIMEZONE
TZID:Europe/Berlin
BEGIN:DAYLIGHT
TZOFFSETFROM:+0100
TZOFFSETTO:+0200
TZNAME:CEST
DTSTART:20200329T010000
END:DAYLIGHT
BEGIN:STANDARD
TZOFFSETFROM:+0200
TZOFFSETTO:+0100
TZNAME:CET
DTSTART:20201025T010000
END:STANDARD
BEGIN:DAYLIGHT
TZOFFSETFROM:+0100
TZOFFSETTO:+0200
TZNAME:CEST
DTSTART:20210328T010000
END:DAYLIGHT
BEGIN:STANDARD
TZOFFSETFROM:+0200
TZOFFSETTO:+0100
TZNAME:CET
DTSTART:20211031T010000
END:STANDARD
BEGIN:DAYLIGHT
TZOFFSETFROM:+0100
TZOFFSETTO:+0200
TZNAME:CEST
DTSTART:20220327T010000
END:DAYLIGHT
BEGIN:STANDARD
TZOFFSETFROM:+0200
TZOFFSETTO:+0100
TZNAME:CET
DTSTART:20221030T010000
END:STANDARD
END:VTIMEZONE
BEGIN:VEVENT
DTSTART;TZID=Europe/Berlin:20211006T120000
DTEND;TZID=Europe/Berlin:20211006T130000
DTSTAMP:20260421T124902
CREATED:20210909T130816Z
LAST-MODIFIED:20210928T110341Z
UID:7981-1633521600-1633525200@www.zentrum-ilmenau.digital
SUMMARY:Digitale Mittagspause Vol. 6 – Energiedaten-Monitoring und KI
DESCRIPTION:Digitale Mittagspause – Zusammen sind wir weniger allein\n\nSie befinden sich im Homeoffice oder arbeiten mobil? Da kommt die zwischenmenschliche Interaktion oft zu kurz. Auch wenn Sie im Büro sind\, haben Sie Lust\, sich nicht nur mit Ihren direkten Kollegen und Kolleginnen auszutauschen?\nDafür wollen wir uns in einer lockeren Atmosphäre digital zur Mittagspause treffen. \n\nGemeinsam mit dem Mittelstand 4.0 Kompetenzzentrum Ilmenau möchten wir die Pausenzeit für Gespräche mit netten Menschen nutzen. Über Büro- und Stadtgrenzen hinweg essen wir zusammen Mittag\, unterhalten uns und knüpfen Kontakte – eine offene Mittagspause für jedermann. \nDieses Format findet bis Ende des Jahres jeweils am ersten Mittwoch des Monats von 12:00 bis 13:00 Uhr statt. Jede Mittagspause steht unter einem bestimmten Thema. Es geht voranging nicht darum\, Vorträgen zu lauschen. Vielmehr steht der fachliche Austausch im Vordergrund. Erfahren Sie\, welche Möglichkeiten und Chancen\, aber auch Herausforderungen digitale Anwendungen umfassen. Wir laden hierfür themenspezifische Impulsgeber und Best-Practice-Beispiele ein. \n\nDas Thüringer Kompetenzzentrum Wirtschaft 4.0 und das Mittelstand 4.0 Kompetenzzentrum Ilmenau laden Sie recht herzlich zur Digitalen Mittagspause Vol. 6 am 06.10.2021 ein. \n\nThema: Steigerung der Energieeffizienz durch Energiedaten-Monitoring und KI \nPartner: IfE – Ingenieurbüro für Energiewirtschaft Dr.-Ing. Dirk Schramm GmbH \nVertreter: Maximilian Schramm\, Axel Mansilla \nKonferenztool: MS Teams \nHinweise: Bitte beachten Sie\, dass Ihre Anmeldedaten aufgrund der Zusammenarbeit und daher einhergehend öffentlichen Förderung beider Zentren miteinander ausgetauscht werden. Ihre Daten werden nicht an Dritte weitergegeben und ausschließlich im Veranstaltungskontext verwendet. Melden Sie sich nur zur Veranstaltung an\, wenn Sie damit einverstanden sind. \nDie Einwahldaten sowie ergänzende technische Informationen erhalten alle angemeldeten Teilnehmer*innen einen Tag vor der Veranstaltung. Für die Teilnahme ist keine spezifische technische Ausstattung notwendig. \n  \n\nAusblick für die nächsten virtuellen Mittagspausen Vol. 7 & 8\n03.11.2021: Akustik im Produktionsbereich\nMittelstand 4.0 Kompetenzzentrum Ilmenau\nVertreter: Maximilian Rohe\nHier geht´s zur Anmeldung \n\n01.12.2021: B2B Kundenakquise über Social Media\nThüringer Kompetenzzentrum Wirtschaft 4.0\nVertreterin: Eyleen Sinnhöfer\nHier geht´s zur Anmeldung \n 
URL:https://www.zentrum-ilmenau.digital/veranstaltung/digitale-mittagspause-vol-6-energiedaten-monitoring-und-ki/
LOCATION:Online
CATEGORIES:Onlinekonferenz
ATTACH;FMTTYPE=image/png:https://www.zentrum-ilmenau.digital/wp-content/uploads/2021/09/Beitragsbild_6-hdilVg.tmp_.png
ORGANIZER;CN="Th%C3%BCringer Kompetenzzentrum Wirtschaft 4.0":MAILTO:wirtschaft@thueringen40.de
END:VEVENT
END:VCALENDAR