BEGIN:VCALENDAR
VERSION:2.0
PRODID:-//Mittelstand-Digital Zentrum Ilmenau - ECPv6.15.17//NONSGML v1.0//EN
CALSCALE:GREGORIAN
METHOD:PUBLISH
X-WR-CALNAME:Mittelstand-Digital Zentrum Ilmenau
X-ORIGINAL-URL:https://www.zentrum-ilmenau.digital
X-WR-CALDESC:Veranstaltungen für Mittelstand-Digital Zentrum Ilmenau
REFRESH-INTERVAL;VALUE=DURATION:PT1H
X-Robots-Tag:noindex
X-PUBLISHED-TTL:PT1H
BEGIN:VTIMEZONE
TZID:Europe/Berlin
BEGIN:DAYLIGHT
TZOFFSETFROM:+0100
TZOFFSETTO:+0200
TZNAME:CEST
DTSTART:20210328T010000
END:DAYLIGHT
BEGIN:STANDARD
TZOFFSETFROM:+0200
TZOFFSETTO:+0100
TZNAME:CET
DTSTART:20211031T010000
END:STANDARD
BEGIN:DAYLIGHT
TZOFFSETFROM:+0100
TZOFFSETTO:+0200
TZNAME:CEST
DTSTART:20220327T010000
END:DAYLIGHT
BEGIN:STANDARD
TZOFFSETFROM:+0200
TZOFFSETTO:+0100
TZNAME:CET
DTSTART:20221030T010000
END:STANDARD
BEGIN:DAYLIGHT
TZOFFSETFROM:+0100
TZOFFSETTO:+0200
TZNAME:CEST
DTSTART:20230326T010000
END:DAYLIGHT
BEGIN:STANDARD
TZOFFSETFROM:+0200
TZOFFSETTO:+0100
TZNAME:CET
DTSTART:20231029T010000
END:STANDARD
END:VTIMEZONE
BEGIN:VEVENT
DTSTART;TZID=Europe/Berlin:20220317T100000
DTEND;TZID=Europe/Berlin:20220317T113000
DTSTAMP:20260422T003015
CREATED:20220118T084113Z
LAST-MODIFIED:20220311T065847Z
UID:9347-1647511200-1647516600@www.zentrum-ilmenau.digital
SUMMARY:KI-Frühling 2022: Predictive Maintenance – Einsatz von vorausschauender Instandhaltung in KMU
DESCRIPTION:Veranstaltungsbeschreibung:\nDie Veranstaltung richtet sich an KMU\, die sich einen schnellen Einstieg in die Thematik des Maschinellen Lernens in der Produktion wünschen und am Einsatz von vorausschauender Instandhaltung interessiert sind. Es wird eine kurze Einführung in die vorausschauende Instandhaltung gegeben Darauf aufbauend werden innerhalb von zwei praxisnahen Live-Demonstrationen Beispielanwendungen der Predictive Maintenance präsentiert. Hierbei werden einerseits Aspekte wie die Datenerfassung\, Datenübertragung und Datenvorverarbeitung erläutert. Darüber hinaus wird aufgezeigt\, wie Fehlermuster in den Messwerten erkannt und für die vorausschauende Wartung genutzt werden können. In der Veranstaltung werden Impulse für die vielfältigen Einsatzmöglichkeiten der Vorgestellten Methoden gegeben und es wird aufgezeigt\, wie mögliche Hürden bei der Einführung überwunden werden können. \nVeranstaltungsziel:\n▪ Vermittlung eines Grundverständnisses für vorausschauende Instandhaltung mittels KI\n▪ Aufzeigen von Anwendungsbeispielen für KMU\n▪ Aufzeigen von Herausforderungen und Grenzen \n Agenda:\n▪ Kurze Vorstellung des KI-Hubs\n▪ Kurze Einführung in die Thematik der vorausschauenden Instandhaltung\n▪ Vorführung von zwei Demonstratoren\n▪ Austausch und Diskussion \n  \n Begrenzung der Teilnehmerzahl: unbegrenzt \nPartner: Mittelstand-Digital Zentrum Ilmenau & Chemnitz \n Name des/r Referent:innen: Antje Siegel (KI-Trainerin) | Wolfram Kattanek (KI-Trainer) | Alexander Dementyev (KI-Trainer) \n Zielgruppe: Einsteiger:innen \n Format: Online\, Konferenztool: Cisco Webex \n  \nHinweise: Bitte beachten Sie\, dass Ihre Anmeldedaten aufgrund der Zusammenarbeit und daher einhergehend öffentlichen Förderung der Zentren miteinander ausgetauscht werden. Ihre Daten werden nicht an Dritte weitergegeben und ausschließlich im Veranstaltungskontext verwendet. Melden Sie sich nur zur Veranstaltung an\, wenn Sie damit einverstanden sind. \nDie Einwahldaten sowie ergänzende technische Informationen erhalten alle angemeldeten Teilnehmer*innen einen Tag vor der Veranstaltung. Für die Teilnahme ist keine spezifische technische Ausstattung notwendig.
URL:https://www.zentrum-ilmenau.digital/veranstaltung/ki-fruehling-2022-predictive-maintenance-einsatz-von-vorausschauender-instandhaltung-in-kmu/
LOCATION:Online
CATEGORIES:KI-Frühling,KI-Hub
ATTACH;FMTTYPE=image/jpeg:https://www.zentrum-ilmenau.digital/wp-content/uploads/2022/01/Beitragsbild-KI-Fruehling-VADOB7.tmp_-scaled.jpg
END:VEVENT
END:VCALENDAR