BEGIN:VCALENDAR
VERSION:2.0
PRODID:-//Mittelstand-Digital Zentrum Ilmenau - ECPv6.15.17//NONSGML v1.0//EN
CALSCALE:GREGORIAN
METHOD:PUBLISH
X-WR-CALNAME:Mittelstand-Digital Zentrum Ilmenau
X-ORIGINAL-URL:https://www.zentrum-ilmenau.digital
X-WR-CALDESC:Veranstaltungen für Mittelstand-Digital Zentrum Ilmenau
REFRESH-INTERVAL;VALUE=DURATION:PT1H
X-Robots-Tag:noindex
X-PUBLISHED-TTL:PT1H
BEGIN:VTIMEZONE
TZID:Europe/Berlin
BEGIN:DAYLIGHT
TZOFFSETFROM:+0100
TZOFFSETTO:+0200
TZNAME:CEST
DTSTART:20230326T010000
END:DAYLIGHT
BEGIN:STANDARD
TZOFFSETFROM:+0200
TZOFFSETTO:+0100
TZNAME:CET
DTSTART:20231029T010000
END:STANDARD
BEGIN:DAYLIGHT
TZOFFSETFROM:+0100
TZOFFSETTO:+0200
TZNAME:CEST
DTSTART:20240331T010000
END:DAYLIGHT
BEGIN:STANDARD
TZOFFSETFROM:+0200
TZOFFSETTO:+0100
TZNAME:CET
DTSTART:20241027T010000
END:STANDARD
BEGIN:DAYLIGHT
TZOFFSETFROM:+0100
TZOFFSETTO:+0200
TZNAME:CEST
DTSTART:20250330T010000
END:DAYLIGHT
BEGIN:STANDARD
TZOFFSETFROM:+0200
TZOFFSETTO:+0100
TZNAME:CET
DTSTART:20251026T010000
END:STANDARD
END:VTIMEZONE
BEGIN:VEVENT
DTSTART;TZID=Europe/Berlin:20240219T093000
DTEND;TZID=Europe/Berlin:20240219T120000
DTSTAMP:20260422T022145
CREATED:20240125T135035Z
LAST-MODIFIED:20240125T200133Z
UID:17355-1708335000-1708344000@www.zentrum-ilmenau.digital
SUMMARY:KI zum Frühstück
DESCRIPTION:Guten Morgen\, genießen Sie Ihr Frühstücksei doch mal mit einer Prise Zukunft! Bei „KI zum Frühstück“ lädt das Thüringer Zentrum für Existenzgründungen und Unternehmertum ein zu Kaffee und Brötchen und den drängenden Themen der Digitalisierung. Dieses kostenfreie Format bietet kleinen und mittleren Unternehmen aus Thüringen die Gelegenheit\, sich über den Einsatz von Künstlicher Intelligenz (KI) in ihrem Betrieb zu informieren. \nGemeinsam werfen wir einen Blick darauf\, wie KI Ihre Arbeitsprozesse revolutionieren kann: Durchdachte Chatbot-Lösungen stärken Ihren Kundendienst\, Automatisierungswerkzeuge vereinfachen zeitraubende Prozesse und intelligente Analysesysteme steigern Ihre Verkaufszahlen. Mit einer Live-Demonstration des Thüringer KI-Unternehmens AIUI sprechen wir nicht nur über Theorie\, sondern sehen KI live in Aktion. Abschließend behandeln wir auch die rechtlichen Grundlagen\, damit Sie bei Ihrem Vorhaben auf der sicheren Seite sind. Alle Programmpunkte halten wir kurz und knackig – genau wie die Brötchen. \nDen Flyer finden Sie hier und hier finden Sie die Anmeldung der Veranstaltung! \nSchwerpunkte \n\nTechnologie im Fokus: KI-Anwendungen für Unternehmen – mit dem Mittelstand-Digital Zentrum Ilmenau\nPraxisnah erleben: Live-Demo von Künstlicher Intelligenz im Einsatz – mit AIUI\nRechtliche Aspekte: Sicherer Einsatz von KI unter Beachtung juristischer Richtlinien – mit rechTEC\n\n  \nBei Fragen zur Veranstaltung wenden Sie sich gern an: \nWolfram Kattanek\nKI-Trainer Modellfabrik Smarte Sensorsysteme\nTel: +49 3677 8749-344\nMail: kattanek@kompetenzzentrum-ilmenau.de
URL:https://www.zentrum-ilmenau.digital/veranstaltung/ki-zum-fruehstueck/
LOCATION:IHK Erfurt\, 99096\, Arnstädter Str. 34\, Thüringen\, 99096\, Deutschland
ATTACH;FMTTYPE=image/jpeg:https://www.zentrum-ilmenau.digital/wp-content/uploads/2024/01/Kopie-von-KI_zum_Fruehstueck-e1706190575816.jpg
ORGANIZER;CN="Th%C3%BCringer Zentrum f%C3%BCr Existenzgr%C3%BCndungen und Unternehmertum (ThEx Wirtschaft 4.0)":MAILTO:dietrich@thueringen40.de
END:VEVENT
BEGIN:VEVENT
DTSTART;TZID=Europe/Berlin:20240220T140000
DTEND;TZID=Europe/Berlin:20240220T150000
DTSTAMP:20260422T022145
CREATED:20240129T203059Z
LAST-MODIFIED:20240131T085748Z
UID:17408-1708437600-1708441200@www.zentrum-ilmenau.digital
SUMMARY:KI-Stammtisch: KI in Suchmaschinen – wie Webseiten & Onlineshops unsichtbar werden
DESCRIPTION:Google SGE und Bing Chat / Copilot halten Einzug in Suchmaschinen und bringen für die Sichtbarkeit von Webseiten und Onlineshops einige neue Herausforderungen. \nMaik Grunitz (Forward Marketing) erläutert anhand von Live-Beispielen den Aufbau und die Funktionen der Künstlichen Intelligenz in Suchmaschinen und erläutert Fragen\, wie: \n\nWoher kommen die Antworten der KI?\nWelche weiteren Inhaltsbereiche werden durch die KI ermittelt?\nWie unterschiedlich sind die Ergebnisse der KI anhand von Suchanfragen?\nWelche Auswirkungen hat dies auf SEO-Maßnahmen bei Onlineshops und Webseiten?\n\nÜber den KI-Stammtisch\nDer „KI-Stammtisch“ ist ein regionales Veranstaltungsformat für Entwickler und Anwender von KI-Lösungen. Im monatlichen Rhythmus werden konkrete KI-Lösungen oder aktuelle Entwicklungen im Bereich der KI-Technologien vorgestellt. Der „KI-Stammtisch“ richtet sich besonders auch an Unternehmen\, die einen Einblick in Problemstellungen bei der technischen Umsetzung von KI-Lösungen erhalten möchten. Gleichzeitig dienen die Veranstaltungen dem gegenseitigen Kennenlernen\, der Vernetzung untereinander und dem Wissens- und Erfahrungsaustausch. \nDie Stammtische finden immer am zweiten Dienstag im Monat statt. \n  \nSie erhalten rechtzeitig vor Beginn der Veranstaltung die Zugangsdaten zum Online-Meeting-Raum \n  \nBei Fragen zur Veranstaltung wenden Sie sich gern an: \nKarsten Jahn \nKI-Trainer\nModellfabrik Virtualisierung\nMail: jahn@kompetenzzentrum-ilmenau.de
URL:https://www.zentrum-ilmenau.digital/veranstaltung/ki-stammtisch-spielregeln-fuer-ki-auswirkungen-des-eu-ai-acts-auf-ihr-unternehmen/
LOCATION:Online
CATEGORIES:eigene Veranstaltung,KI-Hub
ORGANIZER;CN="Mittelstand-Digital Zentrum Ilmenau":MAILTO:info@kompetenzzentrum-ilmenau.digital
END:VEVENT
BEGIN:VEVENT
DTSTART;TZID=Europe/Berlin:20240221T090000
DTEND;TZID=Europe/Berlin:20240221T140000
DTSTAMP:20260422T022145
CREATED:20240105T153013Z
LAST-MODIFIED:20240109T073032Z
UID:17077-1708506000-1708524000@www.zentrum-ilmenau.digital
SUMMARY:Online-Werkstattgespräch 3D-Druck
DESCRIPTION:Sie spielen mit dem Gedanken\, in Ihrem Unternehmen Bauteile über den 3D-Druck herzustellen und wollen sich über die technischen Möglichkeiten oder die Kosten für 3D-Drucktechnik und -materialien informieren? Sie nutzen schon 3D-Druck sind aber mit der Oberflächenqualität der Bauteile unzufrieden oder haben Probleme mit Fehldrucken? Sie haben Fragen zur Erstellung\, Aufbereitung und den Austausch von 3D-Druck-Daten? \nDann melden Sie sich für ein einstündiges Online-Gespräch mit einem 3D-Druck-Experten an. \nInhalte: \nDie individuellen Werkstattgespräche bieten die Möglichkeit\, sich einen umfassenden Überblick zu den Potenzialen\, Anwendungsfeldern und Einsatzvoraussetzungen des 3D-Drucks zu verschaffen. Im Einzelgespräch können Fragen mit Experten diskutiert werden\, unter anderem zu: \n\n3D-Druck-Verfahren und -Materialien: Vorteile / Grenzen / Unterschiede\nKosten für Technik\, Materialien\, Software\nVerfahren zur Nachbearbeitung gedruckter Bauteile\n3D-Scan-Technologien\nErstellung\, Aufbereitung\, Austausch von 3D-Druck-Daten\n\nSie haben am 21. Februar 2024 die Wahl zwischen folgenden Zeiten: \n\n09:00-10:00 Uhr\n10:30-11:30 Uhr\n13:00-14:00 Uhr\n\nReferentin: Dr. Kerstin Michalke \n  \nDen Link zur Anmeldung finden Sie hier. \nDas Gespräch wird virtuell über MS Teams stattfinden. Der Link wird nach der Anmeldung zugesendet. \n  \nBei Fragen zur Veranstaltung wenden Sie sich gern an: \nDr. Kerstin Michalke\nModellfabrik Virtualisierung\nTel: +49 3641 205-390\nMail: michalke@kompetenzzentrum-ilmenau.de
URL:https://www.zentrum-ilmenau.digital/veranstaltung/online-werkstattgespraech-3d-druck/
LOCATION:Online
CATEGORIES:3D-Druck,eigene Veranstaltung
ATTACH;FMTTYPE=image/jpeg:https://www.zentrum-ilmenau.digital/wp-content/uploads/2024/01/Bild-Werkstattgespraeche-e1704468513523.jpg
ORGANIZER;CN="Mittelstand-Digital Zentrum Ilmenau":MAILTO:info@kompetenzzentrum-ilmenau.digital
END:VEVENT
BEGIN:VEVENT
DTSTART;TZID=Europe/Berlin:20240223T090000
DTEND;TZID=Europe/Berlin:20240223T100000
DTSTAMP:20260422T022145
CREATED:20240213T123619Z
LAST-MODIFIED:20240213T125715Z
UID:17616-1708678800-1708682400@www.zentrum-ilmenau.digital
SUMMARY:Jetzt handeln: Künstliche Intelligenz - Zukunft des Einzelhandels?
DESCRIPTION:Die Veranstaltungsreihe „Jetzt handeln: Erfolgsstrategien für den Handel mit Zukunft“ geht in die nächste Runde. Die vierteilige Reihe ist für alle\, die den Herausforderungen des Einzelhandels mit digitalen Strategien begegnen wollen. Immer freitags online\, immer von 9 bis 10 Uhr. \nTeil 1: Wie wird der Einzelhandel der Zukunft aussehen? Wie kann künstliche Intelligenz Kund:innen und Mitarbeitenden im Einzelhandel helfen? Dieser Vortrag beleuchtet Einzelhandelstechnologien der Zukunft für eine vernetzte Gesellschaft\, die den gesamten Einkaufsprozess unterstützt – von der Planung und Vorbereitung über die Unterstützung beim Durchlaufen des Supermarkts bis hin zur Nachverfolgung nach dem Verkauf zu Hause. Die IT-Assistenzssysteme müssen dabei durch eine einfache Handhabung punkten. Intuitive Benutzerfreundlichkeit\, individuelle Präferenzen und personalisierte Informationspräsentation sind Grundvoraussetzungen für deren Akzeptanz. \nDer Vortrag zeigt das Potenzial von Künstlicher Intelligenz im Handel der Zukunft anhand zahlreicher Beispiele für solche Assistenzsysteme auf\, welche ihr in eurem Unternehmen zum Einsatz bringen könnt. \nDer Vortrag wird von ThEx Wirtschaft 4.0 in Kooperation mit dem Mittelstand-Digital Zentrum Handel veranstaltet. \nDie Anmeldung erfolgt über diesen Link den Flyer finden Sie hier. \n  \nWeitere Termine aus dieser Veranstaltungsreihe: \n Künstliche Intelligenz: Zukunft des Einzelhandels? | 23. Februar 2024 \nInnenstadt der Zukunft: Wie Digitalisierung den Einkaufsbummel rettet | 1. März 2024 \nPersonalgewinnung im Handel: Recruiting mit Social Media | 15. März 2024 \nDigital durchstarten: Leitfaden zu einer starken Online-Präsenz | 22. März 2023 \n 
URL:https://www.zentrum-ilmenau.digital/veranstaltung/jetzt-handeln-kuenstliche-intelligenz-zukunft-des-einzelhandels/
LOCATION:Online
CATEGORIES:Extern,Onlineseminare,Veranstaltung Dritter
ATTACH;FMTTYPE=image/jpeg:https://www.zentrum-ilmenau.digital/wp-content/uploads/2024/02/Handelswebinarreihe_Maerz-2024-1200-x-1200-px-1.jpg
ORGANIZER;CN="Th%C3%BCringer Zentrum f%C3%BCr Existenzgr%C3%BCndungen und Unternehmertum (ThEx Wirtschaft 4.0)":MAILTO:dietrich@thueringen40.de
END:VEVENT
BEGIN:VEVENT
DTSTART;TZID=Europe/Berlin:20240223T100000
DTEND;TZID=Europe/Berlin:20240223T120000
DTSTAMP:20260422T022145
CREATED:20240111T161141Z
LAST-MODIFIED:20240129T124146Z
UID:17250-1708682400-1708689600@www.zentrum-ilmenau.digital
SUMMARY:Smarte Tools für Mittelstand: Change Management im Fokus
DESCRIPTION:Sie möchten wissen\, wie Sie digitale Tools in Ihrem Unternehmen erfolgreich einführen und nutzen können? Sie möchten erfahren\, wie Sie Ihre Mitarbeiter:innen für Veränderungen begeistern und qualifizieren können? Sie möchten spannende Praxisbeispiele aus dem Mittelstand-Digital Zentrum kennenlernen? \nDann sind Sie bei der Kick-off Veranstaltung genau richtig! \nDas Mittelstand-Digital Zentrum Berlin lädt Sie herzlich ein\, an unserem kostenlosen Online-Event teilzunehmen. Sie erwartet ein abwechslungsreiches Programm mit folgenden Inhalten: \n\nEin Impulsvortrag von Ninette Florschütz (Modellfabrik Vernetzung)\, der Ihnen einen Überblick über die neuesten digitalen Tools und ihre Möglichkeiten gibt. Sie werden staunen\, was heutzutage alles machbar ist!\nEin Talk mit Pojektmanagerin Anne Mudra vom Mittelstand-Digital Zentrum Berlin\, die Ihnen von ihren Erfahrungen aus Praxisprojekten berichtet. Sie erfahren\, warum ein strategisches Vorgehen so wichtig ist\, wie Sie die Kommunikation mit Ihren Mitarbeiter:innen verbessern können und wie das Mittelstand-Digital Zentrum Berlin Sie unterstützen kann.\nEine Keynote von Katharina Schuchardt vom Mittelstand-Digital Zentrum Ländliche Regionen über die Grundlagen und Erfolgsfaktoren des Change-Managements. Sie lernen\, warum Veränderungen notwendig und sinnvoll sind und wie Sie sie effektiv gestalten können.\nIn unserem Good Practice Talk mit Katrin Robeck\, Geschäftsführerin von B.I.G. Corporate Services\, zeigt ein Unternehmen\, wie dort der digitale Wandel umgesetzt wurde. Sie erhalten einen Einblick in die Herausforderungen\, Lösungen und Erfolge des Veränderungsprozesses.\n\nDas Mittelstand-Digital Zentrum Berlin freut sich auf Ihre Teilnahme und einen spannenden Austausch mit Ihnen!
URL:https://www.zentrum-ilmenau.digital/veranstaltung/save-the-date-smarte-tools-fuer-mittelstand-change-management-im-fokus/
LOCATION:Online
CATEGORIES:Extern,Veranstaltung Dritter
END:VEVENT
BEGIN:VEVENT
DTSTART;TZID=Europe/Berlin:20240227T160000
DTEND;TZID=Europe/Berlin:20240227T180000
DTSTAMP:20260422T022145
CREATED:20240216T113518Z
LAST-MODIFIED:20240220T094505Z
UID:17683-1709049600-1709056800@www.zentrum-ilmenau.digital
SUMMARY:Rechtsfragen zum Einsatz von KI im Unternehmen (EU-Recht\, EU AI Act)
DESCRIPTION:Das Zentrum für Angewandte Künstliche Intelligenz (ZAKI) lädt Sie herzlich zum nächsten Workshop zum Themenschwerpunkt „KI-Geschäftsmodelle“ mit dem Thema „Rechtsfragen zum Einsatz von KI im Unternehmen (EU-Recht\, EU AI Act)“ ein.  Dr. Carsten Morgenroth wird hier über Aspekte des Urheberrechts\, Arbeitsrechts\, Haftungsrechts\, des Datenschutzes und des EU AI Acts informieren und zur offenen Diskussion einladen. \nSie können sich unter zaki@eah-jena.de anmelden.
URL:https://www.zentrum-ilmenau.digital/veranstaltung/rechtsfragen-zum-einsatz-von-ki-im-unternehmen-eu-recht-eu-ai-act/
LOCATION:Haus auf der Mauer\, Johannisplatz 26\, Jena\, 07743\, Deutschland
CATEGORIES:Extern,Fachworkshops,KI-Hub
END:VEVENT
END:VCALENDAR