BEGIN:VCALENDAR
VERSION:2.0
PRODID:-//Mittelstand-Digital Zentrum Ilmenau - ECPv6.15.17//NONSGML v1.0//EN
CALSCALE:GREGORIAN
METHOD:PUBLISH
X-WR-CALNAME:Mittelstand-Digital Zentrum Ilmenau
X-ORIGINAL-URL:https://www.zentrum-ilmenau.digital
X-WR-CALDESC:Veranstaltungen für Mittelstand-Digital Zentrum Ilmenau
REFRESH-INTERVAL;VALUE=DURATION:PT1H
X-Robots-Tag:noindex
X-PUBLISHED-TTL:PT1H
BEGIN:VTIMEZONE
TZID:Europe/Berlin
BEGIN:DAYLIGHT
TZOFFSETFROM:+0100
TZOFFSETTO:+0200
TZNAME:CEST
DTSTART:20250330T010000
END:DAYLIGHT
BEGIN:STANDARD
TZOFFSETFROM:+0200
TZOFFSETTO:+0100
TZNAME:CET
DTSTART:20251026T010000
END:STANDARD
BEGIN:DAYLIGHT
TZOFFSETFROM:+0100
TZOFFSETTO:+0200
TZNAME:CEST
DTSTART:20260329T010000
END:DAYLIGHT
BEGIN:STANDARD
TZOFFSETFROM:+0200
TZOFFSETTO:+0100
TZNAME:CET
DTSTART:20261025T010000
END:STANDARD
BEGIN:DAYLIGHT
TZOFFSETFROM:+0100
TZOFFSETTO:+0200
TZNAME:CEST
DTSTART:20270328T010000
END:DAYLIGHT
BEGIN:STANDARD
TZOFFSETFROM:+0200
TZOFFSETTO:+0100
TZNAME:CET
DTSTART:20271031T010000
END:STANDARD
END:VTIMEZONE
BEGIN:VEVENT
DTSTART;TZID=Europe/Berlin:20260421T100000
DTEND;TZID=Europe/Berlin:20260421T113000
DTSTAMP:20260421T013702
CREATED:20260317T093036Z
LAST-MODIFIED:20260401T091754Z
UID:28212-1776765600-1776771000@www.zentrum-ilmenau.digital
SUMMARY:Digitaler Frühjahrsputz - Teil 1: Überprüfen Sie Ihre IT-Sicherheit
DESCRIPTION:Im ersten Teil unserer Reihe „Digitaler Frühjahrsputz“ steht Ihre IT-Sicherheit im Fokus. Wie kann ich mit einfachen Schritten meine digitale Sicherheit deutlich verbessern? Dieser Frage gehen wir gemeinsam mit Arnim Wagner von der Transferstelle Cybersicherheit im Mittelstand nach und werfen dabei einen Blick auf typische Risiken im digitalen Alltag – von schwachen oder mehrfach genutzten Passwörtern über unsichere Netzwerke bis hin zu fehlenden Backups. \nZiel der Veranstaltung ist es\, Ihnen konkrete und alltagstaugliche Maßnahmen an die Hand zu geben\, mit denen Sie Ihre digitale Basissicherheit direkt erhöhen können. Der Fokus liegt dabei auf einer gezielten Aufräumaktion in der eigenen IT: Risiken erkennen\, Schwachstellen beseitigen und mit überschaubarem Aufwand mehr Ordnung und Sicherheit schaffen. Sie erfahren unter anderem\, wie Sie sichere Passwörter erstellen und verwalten\, Zwei-Faktor-Authentifizierung sinnvoll einsetzen\, regelmäßige Datensicherungen einrichten und Geräte sowie Netzwerke besser absichern. \nAnmeldung und Zugang \nFür Ihre Anmeldung nutzen Sie bitte unser Anmeldeformular. \nDen Zugangslink erhalten Sie am Vortag an die E-Mail-Adresse\, die Sie bei Ihrer Anmeldung angegeben haben. \nAus Datenschutzgründen ist der Einsatz von KI-Besprechungsassistenten sowie das Aufzeichnen der Veranstaltung ohne Genehmigung untersagt. Wir bitten alle Teilnehmenden\, persönlich und aktiv teilzunehmen. \nDie Veranstaltungsreihe findet in Kooperation mit den Industrie- und Handelskammern Südthüringen\, Ostthüringen zu Gera und Erfurt sowie mit dem ThEx Wirtschaft 4.0 statt. \n  \nAlle Veranstaltungen finden jeweils von 10:00 bis 11:30 Uhr online statt: \n\n\n\nDatum\nThema\n\n\n\n\n21.04.2026\nÜberprüfen Sie Ihre IT-Sicherheit\n>> Mehr Infos\nDirekt zum Anmeldeformular\n\n\n22.04.2026\nChecken Sie Ihre Social-Media-Kanäle\n>> Mehr Infos\nDirekt zum Anmeldeformular\n\n\n23.04.2026\nOptimieren Sie Ihre Datenablage \n>> Mehr Infos\nDirekt zum Anmeldeformular\n\n\n\n  \nBei Fragen zur Veranstaltung wenden Sie sich gern an: \nIsabell Weiß\nModellfabrik Virtualisierung\nTelefon: +49 3641 205-295\nE-Mail: weiss@kompetenzzentrum-ilmenau.de \n 
URL:https://www.zentrum-ilmenau.digital/veranstaltung/digitaler-fruehjahrsputz-teil-1-ueberpruefen-sie-ihre-it-sicherheit/
LOCATION:Online
CATEGORIES:Digitaler Frühjahrsputz,Onlineseminare
ATTACH;FMTTYPE=image/jpeg:https://www.zentrum-ilmenau.digital/wp-content/uploads/2026/03/IT-Sicherheit_DFP.jpg
ORGANIZER;CN="Mittelstand-Digital Zentrum Ilmenau":MAILTO:info@kompetenzzentrum-ilmenau.digital
END:VEVENT
BEGIN:VEVENT
DTSTART;TZID=Europe/Berlin:20260421T140000
DTEND;TZID=Europe/Berlin:20260421T150000
DTSTAMP:20260421T013702
CREATED:20260320T144007Z
LAST-MODIFIED:20260331T090955Z
UID:28290-1776780000-1776783600@www.zentrum-ilmenau.digital
SUMMARY:KI-Stammtisch: Mit KI KI-Tools bauen: Claude Code im Praxiseinsatz
DESCRIPTION:Wir entwickeln Software heute mit KI: Claude Code ist unser Werkzeug. Es schreibt Code\, führt Tests aus\, behebt Fehler\, macht Code-Review\, berät uns bei Konzept-Fragen. Wir stellen vor: Wie nutzen wir Claude Code? Wie gut ist die Code-Qualität? Welche Hürden begegnen uns? Was lernen wir daraus für den Umgang mit Code-produzierender KI? Welche Alternativen gibt es? \nDie futureprojects GmbH entwickelt nach anfänglicher Skepsis seit 2025 KI-Assistenten für kleine und mittelständische Unternehmen. Wir nutzen also KI\, um KI-Tools zu bauen. Unser Portfolio umfasst Assistenten\, die einsetzbar sind zur Beantwortung von Emails\, Durchführen von Bewerbungsgesprächen oder Kundeninterviews\, zur Erstellung von Angeboten aus einer Kundenanfrage. Große Teile des Codes entstehen maschinell. \n\nDer Referent: \n\n\n\n\n\n\nNorbert Rost \n\n\n\n\n\nÜber den KI-Stammtisch\nMit dem „KI-Stammtisch“ wurde ein regionales Veranstaltungsformat für Entwickler und Anwender von KI-Lösungen etabliert. Im monatlichen Rhythmus werden jeweils konkrete KI-Lösungen oder aktuelle Entwicklungen sowohl aus den Perspektiven der Entwickler als auch unter Aspekten möglicher Anwendungen vorgestellt. Im Mittelpunkt steht das gegenseitige Kennenlernen. \n\nBei Fragen zur Veranstaltung wenden Sie sich gern an: \nDr. Sebastian Gerth\nModellfabrik Vernetzung\nTelefon: +49 3677 693-870\nE-Mail: gerth@kompetenzzentrum-ilmenau.de
URL:https://www.zentrum-ilmenau.digital/veranstaltung/ki-stammtisch-mit-ki-ki-tools-bauen-claude-code-im-praxiseinsatz/
LOCATION:Online
CATEGORIES:eigene Veranstaltung,Stammtisch
ATTACH;FMTTYPE=image/jpeg:https://www.zentrum-ilmenau.digital/wp-content/uploads/2026/03/KI-Spiderman-meme-Roboter-19.-Maerz-2026-11_06_15-e1774017652486.jpg
ORGANIZER;CN="Mittelstand-Digital Zentrum Ilmenau":MAILTO:info@kompetenzzentrum-ilmenau.digital
END:VEVENT
BEGIN:VEVENT
DTSTART;TZID=Europe/Berlin:20260421T140000
DTEND;TZID=Europe/Berlin:20260421T160000
DTSTAMP:20260421T013702
CREATED:20260402T095103Z
LAST-MODIFIED:20260402T095921Z
UID:28440-1776780000-1776787200@www.zentrum-ilmenau.digital
SUMMARY:Roadshow Hands-On KI 2.0: KI-Transfer im Mittelstand\, rechtssicherer Einstieg & Praxis-Impulse
DESCRIPTION:Künstliche Intelligenz ist im Mittelstand angekommen\, doch viele Unternehmen suchen noch nach dem richtigen „Wie“. Um genau hier praxisnahe Unterstützung zu bieten\, bringen die IHK Heilbronn-Franken und das Mittelstand-Digital Zentrum Franken die Roadshow „Hands-on-KI 2.0″ am 21.04.2026 ins IPAI nach Heilbronn. \nEs gibt spannende Impulse von Experten (u.a. Scavenger AI\, Noxtua\, Signatrix)\, Einblicke in rechtliche Rahmenbedingungen und innovative Demonstratoren zum Ausprobieren. Nutzen Sie die Chance zum Networking und erleben Sie KI-Anwendungen aus erster Hand. \n📍 Wo: IPAI SPACES\, Heilbronn \n📅 Wann: 21.04.2026\, ab 14:00 Uhr \n🔗 Infos & Anmeldung: Hands-On KI: Einsatzmöglichkeiten für den Mittelstand | Digitalzentrum
URL:https://www.zentrum-ilmenau.digital/veranstaltung/ki-zum-anfassen-roadshow-hands-on-ki-2-0-ki-transfer-im-mittelstand-rechtssicherer-einstieg-praxis-impulse-am-21-04-in-heilbronn/
LOCATION:IPAI Spaces\, Im Zukunftspark 11/13\, Heilbronn\, 74076\, Germany
CATEGORIES:Extern
ATTACH;FMTTYPE=image/jpeg:https://www.zentrum-ilmenau.digital/wp-content/uploads/2026/04/Visual.jpg
END:VEVENT
END:VCALENDAR