BEGIN:VCALENDAR
VERSION:2.0
PRODID:-//Mittelstand-Digital Zentrum Ilmenau - ECPv6.15.17//NONSGML v1.0//EN
CALSCALE:GREGORIAN
METHOD:PUBLISH
X-WR-CALNAME:Mittelstand-Digital Zentrum Ilmenau
X-ORIGINAL-URL:https://www.zentrum-ilmenau.digital
X-WR-CALDESC:Veranstaltungen für Mittelstand-Digital Zentrum Ilmenau
REFRESH-INTERVAL;VALUE=DURATION:PT1H
X-Robots-Tag:noindex
X-PUBLISHED-TTL:PT1H
BEGIN:VTIMEZONE
TZID:Europe/Berlin
BEGIN:DAYLIGHT
TZOFFSETFROM:+0100
TZOFFSETTO:+0200
TZNAME:CEST
DTSTART:20230326T010000
END:DAYLIGHT
BEGIN:STANDARD
TZOFFSETFROM:+0200
TZOFFSETTO:+0100
TZNAME:CET
DTSTART:20231029T010000
END:STANDARD
BEGIN:DAYLIGHT
TZOFFSETFROM:+0100
TZOFFSETTO:+0200
TZNAME:CEST
DTSTART:20240331T010000
END:DAYLIGHT
BEGIN:STANDARD
TZOFFSETFROM:+0200
TZOFFSETTO:+0100
TZNAME:CET
DTSTART:20241027T010000
END:STANDARD
BEGIN:DAYLIGHT
TZOFFSETFROM:+0100
TZOFFSETTO:+0200
TZNAME:CEST
DTSTART:20250330T010000
END:DAYLIGHT
BEGIN:STANDARD
TZOFFSETFROM:+0200
TZOFFSETTO:+0100
TZNAME:CET
DTSTART:20251026T010000
END:STANDARD
END:VTIMEZONE
BEGIN:VEVENT
DTSTART;TZID=Europe/Berlin:20240705T103000
DTEND;TZID=Europe/Berlin:20240705T123000
DTSTAMP:20260421T105113
CREATED:20240614T064405Z
LAST-MODIFIED:20240925T055852Z
UID:19754-1720175400-1720182600@www.zentrum-ilmenau.digital
SUMMARY:KI als kreative Assistenz der Unternehmenskommunikation? – Teil 5:  KI\, Copilot\, Automatisierung & Co. – Nützliche Tools in der Microsoft 365-Umgebung
DESCRIPTION:Das Mittelstand Digital Zentrum Ilmenau lädt am 5. Juli 2024 von 11:00 bis 12:30 Uhr zum fünften Teil der Online-Seminar-Reihe „KI als kreative Assistenz der Unternehmenskommunikation“ ein. \nWorum geht´s? \nMicrosoft Copilot ist eine leistungsstarke KI-gesteuerte Assistenz\, die in verschiedenen Microsoft 365-Anwendungen\, Windows 11 und dem Edge-Browser integriert ist. Sie wird auf verschiedene Weisen eingesetzt\, um die Produktivität\, Kreativität und Zusammenarbeit zu verbessern: \n\nIntelligente Suchfunktion (Microsoft Search)\nAutomatisierung von Routineaufgaben (Power Automate) z.B. wiederkehrende Aufgaben sowie Abfrage-\, Ablage-\, Freigabeprozesse\nSprach- und Texterkennung (Cortana und Microsoft Translator)\nDatenanalyse und Visualisierung (Power BI) z.B. zur Auswertung komplexer Daten der Wirkungsmessung\, Tonalitäten des Mitarbeiterfeedbacks in Umfragen sowie kontextualisierte Zusammenfassungen\nMeeting- und Kommunikationsoptimierung (Microsoft Teams) mithilfe von Transkriptionen\, Untertiteln und intelligenten Zusammenfassungen\nPlanungsvorlagen\n\nEinführung & Demonstration \nUnsere Experten Sabrina Gottwald und Andreas Lorek von HIRSCHTEC stellen Ihnen die Anwendungsbereiche vor. Sie geben Beispiele\, wie die KI-gestützten Funktionen in der Microsoft 365 Umgebung dazu beitragen\, Arbeitsabläufe der Unternehmenskommunikation effizienter zu gestalten\, die Zusammenarbeit im Team zu fördern\, kreative Prozesse anzustoßen und die Datenanalyse zur Wirkungsmessung verbessern. \nIhr Nutzen \nDiese Veranstaltung bietet sowohl Einsteigern als auch Fortgeschrittenen wertvolle Informationen und praktische Tipps zur Nutzung ihrer individuellen Microsoft Office 365-Umgebung. Diskutieren Sie im Anschluss mit den Referenten und anderen Teilnehmern aktuelle Herausforderungen und Risiken zum Einsatz der Funktionen und wie diese gemeistert werden können. \nWir freuen uns auf Ihre Teilnahme! \n  \nDie Referenten \n \nAndreas Lorek\, HIRSCHTEC \nAndreas Lorek arbeitet seit 6 ½ Jahren bei HIRSCHTEC in der Berliner Unit Tetris. Als Project Leader & Principal Consultant Information Architecture Ist er der erste Ansprechpartner in Kundenprojekten\, wie z.B. die Einführung eines neuen Intranets\, Ausrollen des digitalen Arbeitsplatz oder Nutzung von KI im Unternehmen. \n  \n \nSabrina Gottwald\, Senior Sales Consultant\, HIRSCHTEC \nSabrina Gottwald agiert als Senior Sales Consultant\, begleitet die Umsetzung  digitaler Strategien und verantwortet die Einführung und Optimierung digitaler Arbeitswelten. \n  \n  \nÜber die Veranstaltungsreihe \nKünstliche Intelligenz (KI) wird in Marketing\, PR wie auch der internen Kommunikation immer häufiger eingesetzt. Tools wie ChatGPT & Co. können hier jedoch nicht nur dazu beitragen\, Content zu realisieren\, sondern werden immer mehr auch in der Planung\, Steuerung und Evaluation von Maßnahmen eingesetzt. \nWie sieht die Ausstattung eines intelligenten Werkzeugkoffers in der Unternehmenskommunikation in Zukunft aus? Was gehört hinein\, was (noch) nicht? \nDie Veranstaltungsreihe präsentiert jeweils eine Auswahl intelligenter Werkzeuge anhand praxisnaher Beispiele und diskutiert deren Anwendungsgebiete. Die Teilnehmer haben die Möglichkeit\, mit Anwendungsszenarien zu experimentieren und sich abschließend in einer kritischen Diskussion zu Potenzialen und Hürden für KMU auszutauschen. \n  \nDie Zugangsdaten erhalten Sie kurz vor der Veranstaltung per E-Mail. \n  \nBei Fragen zur Veranstaltung wenden Sie sich gern an: \nDr. des. Ninette Florschütz\nModellfabrik Vernetzung\nTelefon: +49 173 361 80 82\nMail: florschuetz@kompetenzzentrum-ilmenau.de
URL:https://www.zentrum-ilmenau.digital/veranstaltung/ki-als-kreative-assistenz-der-unternehmens-kommunikation-teil-5-ki-copilot-automatisierung-co-nuetzliche-tools-in-der-microsoft-365-umgebung/
LOCATION:Online
CATEGORIES:eigene Veranstaltung,KI-Hub
ATTACH;FMTTYPE=image/jpeg:https://www.zentrum-ilmenau.digital/wp-content/uploads/2024/06/Headerbild_ChatGPT.jpg
ORGANIZER;CN="Mittelstand-Digital Zentrum Ilmenau":MAILTO:info@kompetenzzentrum-ilmenau.digital
END:VEVENT
END:VCALENDAR