BEGIN:VCALENDAR
VERSION:2.0
PRODID:-//Mittelstand-Digital Zentrum Ilmenau - ECPv6.15.17//NONSGML v1.0//EN
CALSCALE:GREGORIAN
METHOD:PUBLISH
X-ORIGINAL-URL:https://www.zentrum-ilmenau.digital
X-WR-CALDESC:Veranstaltungen für Mittelstand-Digital Zentrum Ilmenau
REFRESH-INTERVAL;VALUE=DURATION:PT1H
X-Robots-Tag:noindex
X-PUBLISHED-TTL:PT1H
BEGIN:VTIMEZONE
TZID:Europe/Berlin
BEGIN:DAYLIGHT
TZOFFSETFROM:+0100
TZOFFSETTO:+0200
TZNAME:CEST
DTSTART:20230326T010000
END:DAYLIGHT
BEGIN:STANDARD
TZOFFSETFROM:+0200
TZOFFSETTO:+0100
TZNAME:CET
DTSTART:20231029T010000
END:STANDARD
BEGIN:DAYLIGHT
TZOFFSETFROM:+0100
TZOFFSETTO:+0200
TZNAME:CEST
DTSTART:20240331T010000
END:DAYLIGHT
BEGIN:STANDARD
TZOFFSETFROM:+0200
TZOFFSETTO:+0100
TZNAME:CET
DTSTART:20241027T010000
END:STANDARD
BEGIN:DAYLIGHT
TZOFFSETFROM:+0100
TZOFFSETTO:+0200
TZNAME:CEST
DTSTART:20250330T010000
END:DAYLIGHT
BEGIN:STANDARD
TZOFFSETFROM:+0200
TZOFFSETTO:+0100
TZNAME:CET
DTSTART:20251026T010000
END:STANDARD
END:VTIMEZONE
BEGIN:VEVENT
DTSTART;TZID=Europe/Berlin:20240618T100000
DTEND;TZID=Europe/Berlin:20240618T170000
DTSTAMP:20260421T214901
CREATED:20240513T100809Z
LAST-MODIFIED:20240529T074758Z
UID:19327-1718704800-1718730000@www.zentrum-ilmenau.digital
SUMMARY:KI Hub on Tour: Treasure AI-sland
DESCRIPTION:Hier geht’s zur Programmübersicht \nKÜNSTLICHE INTELLIGENZ VERSTEHEN UND NUTZEN \n\nUnentdeckte Inseln mit versteckten Schätzen sind heute selten geworden. Es scheint\, als sei die globalisierte Welt zu einem einzigen digitalen Atoll zusammengeschrumpft\, in dem Arbeit\, Produktion und Wertschöpfung\, aber auch Mobilität\, Kommunikation und Konsum allumfassend vernetzt sind. Satelliten regulieren Datenströme aus der Umlaufbahn\, erfassen Positionen\, fotografieren und katalogisieren jeden Punkt der Erde. Wie ist also eine Reise ins Unbekannte möglich? Vielleicht mit der einfachen Frage: „Hey ChatGPT\, wo geht es denn zur Schatzinsel?“ Die Antwort ist ernüchternd: „Es tut mir leid\, es gibt keine real existierende Schatzinsel mit konkreten Wegbeschreibungen.“ \nWenn Sie schlauer sein wollen als der KI ChatBot\, dann sichern Sie sich jetzt ein Ticket für den 18.06.2024! Bei der Tagung Treasure AI-Land in Leipzig treten Sie eine Reise ins Unbekannte an. Also „Leinen los und Anker lichten!“ \nDie Menge der Daten\, die die Menschheit pro Sekunde erzeugt\, war nie höher und steigt sekündlich an. Die wirklich wertvollen Informationen aus diesem Datenmeer zu gewinnen ist ein eigenes Geschäftskonzept geworden – ein lernendes System\, das anhand der eigenen Daten Vorhersagen trifft und konkrete Maßnahmen vorschlägt: Prädiktiv\, effizient und intuitiv! Das klingt für einige bereits nach einem wertvollen Schatz\, für den man nicht mal das eigene Firmengelände verlassen muss. \nHissen Sie die Segel und starten Sie Ihre Expedition mit der Fachtagung des Forschungs- und Entwicklungsprojekts „Künstlich Menschlich Intelligent“ – Treasure AI-Land. Denn Sie sind auf dem Weg zur erfolgreichen Implementierung von künstlicher Intelligenz nicht allein. Gemeinsam mit Partnern aus Wissenschaft\, Industrie und Handwerk stellen wir konkrete Schritte und Chancen\, aber auch Fallstricke und Vorbehalte in den Mittelpunkt. Profitieren Sie von den Erfahrungen aber auch von den Fehlern anderer Projekte und Unternehmen! Erkunden Sie gemeinsam mit uns die Insel – es gibt viel zu entdecken! \nWir freuen uns auf Sie! \n\n  \nAgenda: \n\n\n\n9.00 – 10.00 Uhr\nKonsortialtreffen\, intern\n\n\n10.15 Uhr\nLeinen los! Eröffnung der Fachtagung\nDr. Jens Katzek\, Geschäftsführer\, ACOD GmbH\nDr. Christian Zinke-Wehlmann\, Leiter des Kompetenzzentrums\nKMI\, Institut für Angewandte Informatik (InfAI) e. V.\n\n\n10.30 Uhr\nKI-Land Sachsen – Wir sind schon mittendrin! Eine politische\nEinordnung\nDr. Dirk Orlamünder\, Abteilungsleiter Digitalisierung\, Energie\nBergbau und Marktordnung\, Sächsisches Staatsministerium für\nWirtschaft\, Arbeit und Verkehr\n\n\n15.50 Uhr\nWie wir mit KI unsere Fertigung und Produkte optimieren –\nDie Welt ist kleiner als ihre Möglichkeiten\nDr. Udo Kreißig\, Director Manufacturing Technologies\, Vitesco\nTechnologies GmbH\n\n\n11.10 Uhr\nVielfältige Einsatzbereich von Künstlicher Intelligenz –\nKrebsvorsorge\, Straßenverkehr\, Sprachassistenz\nProf. Dr. Mike Espig\, Professor für Mathematik und Leiter Data\nScience Research Group\, Westsächsische Hochschule Zwickau\n\n\n11.30 Uhr\nkurze Pause\n\n\n11.45 Uhr\nPodiumsdiskussion – KI-Perspektiven unter der Lupe\nProf. Dr. Dirk Schmalzried\, Leiter des Zentrums für Angewandte\nKünstliche Intelligenz (ZAKI)\, Ernst-Abbe-Hochschule Jena\nStefan Schreiber\, Rechtsanwalt IP\, IT und Datenschutz\, CMS\nHasche Sigle Partnerschaft von Rechtsanwälten und\nSteuerberatern mbB\nChristian Friedrich\, Managing Director\, ifm electronic GmbH\n\n\n12.30 Uhr\nDie jungen Wilden – KI-Start-Up Pitch\nBRbase\, Monday.Rocks\, Speechmind\, t2k\n\n\n13.00 Uhr\nMittagspause mit Begleitausstellung\n\n\n14.00 – 16.00 Uhr\nParallele Sessions (weitere Infos siehe Programmübersicht)\n\n\n16.00 Uhr\nKaffeepause\n\n\n16.15 Uhr\nDienstleister – Herzblatt\n\n\n17.00 Uhr\nResümee und Ausklang\nDr. Jens Katzek\, Geschäftsführer\, ACOD GmbH\nDr. Christian Zinke-Wehlmann\, Kompetenzzentrums\nKMI\, Institut für Angewandte Informatik (InfAI) e. V.\n\n\n\n  \nHier geht’s zur Anmeldung. \nBei Fragen zur Veranstaltung wenden Sie sich gern an: \nDr. Sebastian Gerth\nModellfabrik Vernetzung\nTelefon: 03677/693870\n gerth@kompetenzzentrum-ilmenau.de
URL:https://www.zentrum-ilmenau.digital/veranstaltung/ki-hub-on-tour-treasure-ai-sland/
LOCATION:Mediencampus Villa Ida\, Poetenweg 28\, Leipzig\, 04155\, Deutschland
CATEGORIES:Extern,KI-Hub
ATTACH;FMTTYPE=image/png:https://www.zentrum-ilmenau.digital/wp-content/uploads/2024/04/KI_Hub_on_Tour_Grafik_Logos-1-1-e1714295591343.png
END:VEVENT
BEGIN:VEVENT
DTSTART;TZID=Europe/Berlin:20240618T100000
DTEND;TZID=Europe/Berlin:20240618T220000
DTSTAMP:20260421T214902
CREATED:20240528T134459Z
LAST-MODIFIED:20240530T074305Z
UID:19436-1718704800-1718748000@www.zentrum-ilmenau.digital
SUMMARY:Thüringer Wirtschaftskongress Erwicon 2024
DESCRIPTION:Der Thüringer Wirtschaftskongress ist eine Plattform zum Austausch und zur Vernetzung von Akteuren\, die sich für die Gestaltung einer zukunftsfähigen Wirtschaft und Gesellschaft engagieren. Auf dem diesjährigen Wirtschaftskongress erwicon präsentieren wird gezeigt\, wie Thüringen mit künstlicher Intelligenz und innovativen Technologien die Wirtschaft vorantreibt. Experten aus Wissenschaft und Praxis teilen ihre Erfahrungen und zeigen auf\, wie Unternehmen diese Technologien erfolgreich nutzen. \nEntdecken Sie die neuesten Trends\, vernetzen Sie sich mit Branchenführern und gestalten Sie aktiv die Zukunft. Der erwicon ist Ihre Plattform für Inspiration\, Wissenstransfer und zukunftsweisende Geschäftsideen.Der erwicon findet in diesem Jahr zum 22. Mal statt und wird vom Amt für Wirtschaftsförderung der Stadtverwaltung Erfurt organisiert. \n\nDas Mittelstand-Digital Zentrum ist in „Workshop 9: KI-Sprechstunde – Wie komme ich zur KI\, die mir hilft?“ vertreten. Fragen zum Thema können Sie vor Ort via QR-Code einreichen. Zusätzlich präsentieren wir uns auf der Begleitausstellung mit einer Auswahl an KI-Demonstratoren. \n  \nDer Besuch der Veranstaltung ist kostenpflichtig (Vollzahler: 99\,00€\, Studenten: 5\,50€) – mehr Informationen finde Sie hier. \n 
URL:https://www.zentrum-ilmenau.digital/veranstaltung/thueringer-wirtschaftskongress-erwicon-2024/
LOCATION:Steigerwald-Stadion (Conferenz-Center)\, Mozartallee 3\, Erfurt\, 99096\, Germany
CATEGORIES:Extern
ATTACH;FMTTYPE=image/jpeg:https://www.zentrum-ilmenau.digital/wp-content/uploads/2024/05/visual04-erwicon.jpg
END:VEVENT
BEGIN:VEVENT
DTSTART;TZID=Europe/Berlin:20240618T140000
DTEND;TZID=Europe/Berlin:20240618T140000
DTSTAMP:20260421T214902
CREATED:20240418T081228Z
LAST-MODIFIED:20240418T124224Z
UID:19028-1718719200-1718719200@www.zentrum-ilmenau.digital
SUMMARY:Mittelstand-Digital Kongress 2024
DESCRIPTION:Entdecken Sie die Möglichkeiten der Künstlichen Intelligenz für den Mittelstand! Nehmen Sie am „Mittelstand-Digital Kongress – KI-Transfer gemeinsam gestalten“ teil\, am 18. Juni 2024 in Berlin-Mitte. Erfahren Sie\, wie KMU von KI profitieren können und erhalten Sie praktische Einblicke. Unterstützt vom Bundesministerium für Wirtschaft und Klimaschutz bieten wir Hilfe zur Selbsthilfe in KI- und Digitalisierungsthemen. Melden Sie sich jetzt an! \n  \nAgenda: \nModeration: Mads Pankow \n\n\n\n13.30 Uhr\nAnkommen + Einchecken\n\n\n14.00 Uhr\nEröffnung der Veranstaltung\n\n\n14.05 Uhr\nGrußworte aus dem Bundesministerium für Wirtschaft und Klimaschutz \nChristina Decker\, Unterabteilungsleiterin Digitalpolitik und digitale Wirtschaft im BMWK\n\n\n14.15 Uhr\nKeynote \nDaniel Abbou\, KI-Bundesverband\n\n\n14.35 Uhr\nDiskussionsrunde „Wie profitieren kleine und mittlere Unternehmen heute bereits von KI-Anwendungen?“ \n• Daniel Abbou\, KI-Bundesverband \n• Dr. Frauke Goll\, Applied AI \n• Jonas Wöll\, DIHK \n• N.N.\, KI-Trainer:in \n• N.N.\, KI-Anwendungsunternehmen\n\n\n115.15 Uhr\nKaffeepause + Vernetzen\n\n\n\nPraktische Einblicke: KI-Projekte mit KMU\n\n\n15.45 Uhr\nKI-gestützte Datencockpits für Maschinenoptimierung und Ressourceneffizienz in einem Wertschöpfungsnetzwerk \nMittelstand-Digital Zentrum WertNetzWerke \nMaschinenfabrik Wichelhaus\, Solingen\n\n\n16.00 Uhr\nKI-Chatbotsystem zum Erlernen der deutschen Sprache \nMittelstand-Digital Zentrum Lingen.Münster.Osnabrück \nProfiling Büro Glaser\, Minden\n\n\n16.15 Uhr\nMit KI zum richtigen Bett \nMittelstand-Digital Zentrum Schleswig-Holstein \nPhysio-Konzepte Schlafsysteme\, Lübeck\n\n\n16.30 Uhr\nEntwicklung und Umsetzung einer KI-Strategie für ein KMU \nMittelstand-Digital Zentrum Augsburg und Mittelstand-Digital Zentrum Zukunftskultur \nWenglor Sensoric\, Tettnang\n\n\n16.45 Uhr\nDas KI-Train-the-Trainer-Programm von Mittelstand-Digital \nMittelstand-Digital Begleitforschung \nMittelstand-Digital Zentrum Saarbrücken\n\n\n17.00 Uhr\nLive-Demo: KI-Anwendung zur juristischen Fallanalyse \nMittelstand-Digital Zentrum Franken\n\n\n17.10 Uhr\nKaffeepause + Vernetzen\n\n\n17.45 Uhr\nDie Angebote der Transferstelle Cybersicherheit im Mittelstand \nTransferstelle Cybersicherheit\n\n\n\nPraktische Einblicke: Veranstaltungen mit Multiplikatoren\n\n\n18.00 Uhr\nKI-Safari für den Mittelstand in Kooperation mit Verband \nMittelstand-Digital Zentrum Zukunftskultur und weitere Zentren \nBVMW Metropolregion Hamburg\n\n\n18.10 Uhr\nDigital Transformation Enabler mit Wirtschaftsförderung \nMittelstand-Digital Zentrum Ruhr-OWL \nThink Tank OWL und Wirtschaftsförderung Paderborn\n\n\n18.20 Uhr\nRunder Tisch Mittelstand-Digital Berlin \nMittelstand-Digital Zentrum Berlin \nDigitalagentur Berlin\n\n\n18.30 Uhr\nDigitalTag Kölner Unternehmen in Kooperation mit Kammern und Wirtschaftsförderung \nMittelstand-Digital Zentrum Rheinland \nIHK zu Köln\, HWK zu Köln\, KölnBusiness Wirtschaftsförderung\n\n\n18.40 Uhr\nLive-Demo \nMittelstand-Digital Zentrum Klima.Neutral.Digital\n\n\n18.50 Uhr\nResümee\n\n\n19.00 Uhr\nVernetzung am Buffet\n\n\n\n  \nHier können Sie sich anmelden.
URL:https://www.zentrum-ilmenau.digital/veranstaltung/mittelstand-digital-kongress-2024/
LOCATION:Tagungswerk\, Lindenstraße 85\, Berlin-Mitte\, Berlin\, 10969\, Deutschland
CATEGORIES:Extern
ATTACH;FMTTYPE=image/jpeg:https://www.zentrum-ilmenau.digital/wp-content/uploads/2024/04/cover-md-kongress-2024.jpg
END:VEVENT
END:VCALENDAR