BEGIN:VCALENDAR
VERSION:2.0
PRODID:-//Mittelstand-Digital Zentrum Ilmenau - ECPv6.15.17//NONSGML v1.0//EN
CALSCALE:GREGORIAN
METHOD:PUBLISH
X-WR-CALNAME:Mittelstand-Digital Zentrum Ilmenau
X-ORIGINAL-URL:https://www.zentrum-ilmenau.digital
X-WR-CALDESC:Veranstaltungen für Mittelstand-Digital Zentrum Ilmenau
REFRESH-INTERVAL;VALUE=DURATION:PT1H
X-Robots-Tag:noindex
X-PUBLISHED-TTL:PT1H
BEGIN:VTIMEZONE
TZID:Europe/Berlin
BEGIN:DAYLIGHT
TZOFFSETFROM:+0100
TZOFFSETTO:+0200
TZNAME:CEST
DTSTART:20230326T010000
END:DAYLIGHT
BEGIN:STANDARD
TZOFFSETFROM:+0200
TZOFFSETTO:+0100
TZNAME:CET
DTSTART:20231029T010000
END:STANDARD
BEGIN:DAYLIGHT
TZOFFSETFROM:+0100
TZOFFSETTO:+0200
TZNAME:CEST
DTSTART:20240331T010000
END:DAYLIGHT
BEGIN:STANDARD
TZOFFSETFROM:+0200
TZOFFSETTO:+0100
TZNAME:CET
DTSTART:20241027T010000
END:STANDARD
BEGIN:DAYLIGHT
TZOFFSETFROM:+0100
TZOFFSETTO:+0200
TZNAME:CEST
DTSTART:20250330T010000
END:DAYLIGHT
BEGIN:STANDARD
TZOFFSETFROM:+0200
TZOFFSETTO:+0100
TZNAME:CET
DTSTART:20251026T010000
END:STANDARD
END:VTIMEZONE
BEGIN:VEVENT
DTSTART;TZID=Europe/Berlin:20240612T110000
DTEND;TZID=Europe/Berlin:20240612T150000
DTSTAMP:20260421T214710
CREATED:20240411T074442Z
LAST-MODIFIED:20240529T074249Z
UID:18955-1718190000-1718204400@www.zentrum-ilmenau.digital
SUMMARY:FutureMinds – Gemeinsam denken\, gestalten und vernetzen für die Zukunft Ihres Unternehmens!
DESCRIPTION:Sie wollen sich in der Wirtschaft in Thüringen vernetzen? Weiterbildung ist kein Fremdwort für Sie? \nFuture Minds – Meet & Connect ist das Netzwerktreffen in Thüringen\, auf das Sie gewartet haben! \nTauchen Sie ein in eine Welt voller Inspiration\, Innovation und Verbindung. Knüpfen Sie wertvolle Kontakte\, die Ihr berufliches Tun auf das nächste Level bringen. \nBei Future Minds – Meet & Connect erwarten Sie spannende Vorträge von Führungspersönlichkeiten aus verschiedenen Unternehmen\, Networking-Möglichkeiten\, gute Musik und vieles mehr. Lassen Sie sich von den Keynotes und Visionen der Speaker inspirieren und entdecken Sie neue Möglichkeiten\, um Ziele in Ihrem Unternehmen mit Weiterbildung zu erreichen. Unsere Veranstaltung bietet die perfekte Möglichkeit\, um Ihr Netzwerk zu erweitern und gleichzeitig einen Einblick in die Zusammenarbeit von Unternehmen und dem LERNBUND zu bekommen. \nSeien Sie dabei\, lernen und vernetzen Sie sich und lassen Sie sich von den Future Minds inspirieren. \nAgenda \n\n\n\n11.00 Uhr\nAnkommen\n\n\n11.30 Uhr\nBegrüßung durch den LERNBUND\n\n\n11.40 Uhr\nBegrüßung des Ministeriums\n\n\n11.55 Uhr\nKeynote: Weiterbildung braucht Analyse\n\n\n12.15 Uhr\nNetzwerken & Brunch\n\n\n12.45 Uhr\nKeynote: Erfolge brauchen Verbindungen\n\n\n13.05 Uhr\nKeynote: Technologie braucht Wissen\n\n\n13.25 Uhr\nNetzwerken mit Robotern\n\n\n14.10 Uhr\nBierdeckelfragerunde\n\n\n14.25 Uhr\nAbschlussmoderation\n\n\n14.30 Uhr\nNetzwerken und Ende\n\n\n\n 
URL:https://www.zentrum-ilmenau.digital/veranstaltung/futureminds-gemeinsam-denken-gestalten-und-vernetzen-fuer-die-zukunft-ihres-unternehmens/
LOCATION:Mehnert Lab\, Hugo-John-Str.8\, Erfurt\, 99086\, Deutschland
CATEGORIES:Extern
ATTACH;FMTTYPE=image/jpeg:https://www.zentrum-ilmenau.digital/wp-content/uploads/2024/04/Screenshot-2024-04-11-093716-scaled.jpg
END:VEVENT
BEGIN:VEVENT
DTSTART;TZID=Europe/Berlin:20240612T151500
DTEND;TZID=Europe/Berlin:20240612T170000
DTSTAMP:20260421T214710
CREATED:20240523T130604Z
LAST-MODIFIED:20240524T061239Z
UID:19391-1718205300-1718211600@www.zentrum-ilmenau.digital
SUMMARY:23. Fertigungstechnisches Kolloquium „Schnittkraftmessung in Forschung und Produktion“
DESCRIPTION:Fachinformationen – Erfahrungsaustausch – Neue Kontakte\n\nIm Mittelpunkt der Veranstaltung steht moderne Messtechnik zur Überwachung und optimalen Gestaltung von Zerspanvorgängen.\nDer Referent zeigt auf\, welche piezoelektrischen Schnittkraft-Messsysteme zum Einsatz für verschiedene Fertigungsverfahren\nin Forschung und Industrie zur Verfügung stehen. Dabei geht er auch auf Neu- bzw. Weiterentwicklungen zur Bearbeitung\nspezieller Aufgaben ein. An konkreten Beispielen wird aufgezeigt\, wie durch den Einsatz solcher Messsysteme und der zugehörigen\nAuswerteeinheiten die Ergebnisse von Zerspanvorgängen signifikant verbessert werden können und welche Vorteile sich daraus ergeben. \nDas Fertigungstechnische Kolloquium ist eine gemeinsame Veranstaltung der beiden Fachbereiche Maschinenbau und SciTec. \nBegrüßung\nProf. Marlies Patz\, Prof. Jens Bliedtner \nSchnittkraftmessung in Forschung und Produktion\nKevin Meier\, Product Manager Cooperation\nSolutions in Advanced Manufacturing\n(Winterthur\, Schweiz) \nPräsentation von Komponenten und Systemen für das Monitoring im Prozess der Schnittkraftmessung\, Erfahrungsaustausch bei Kaffee und Kuchen und Möglichkeit zum Rundgang durch die Labore. \nDie Veranstaltung findet an der Ernst-Abbe-Hochschule Jena\, Haus 4\, Raum 04.00.01 (Hörsaal 6) statt. \nAnmeldeschluss ist der 10. Juni. \nBei Fragen zur Veranstaltung wenden Sie sich gern an: \nIsabell Weiß\nModellfabrik Virtualisierung\nTelefon: 03641/205295\n weiss@kompetenzzentrum-ilmenau.de \n  \n 
URL:https://www.zentrum-ilmenau.digital/veranstaltung/23-fertigungstechnisches-kolloquium-schnittkraftmessung-in-forschung-und-produktion/
LOCATION:Ernst-Abbe-Hochschule Jena\, Carl-Zeiss-Promenade 2\, Jena\, Thüringen\, 07745\, Deutschland
CATEGORIES:3D-Druck,eigene Veranstaltung
ATTACH;FMTTYPE=image/png:https://www.zentrum-ilmenau.digital/wp-content/uploads/2024/05/Bild-fuer-FTK-2024.png
END:VEVENT
END:VCALENDAR