BEGIN:VCALENDAR
VERSION:2.0
PRODID:-//Mittelstand-Digital Zentrum Ilmenau - ECPv6.15.17//NONSGML v1.0//EN
CALSCALE:GREGORIAN
METHOD:PUBLISH
X-ORIGINAL-URL:https://www.zentrum-ilmenau.digital
X-WR-CALDESC:Veranstaltungen für Mittelstand-Digital Zentrum Ilmenau
REFRESH-INTERVAL;VALUE=DURATION:PT1H
X-Robots-Tag:noindex
X-PUBLISHED-TTL:PT1H
BEGIN:VTIMEZONE
TZID:Europe/Berlin
BEGIN:DAYLIGHT
TZOFFSETFROM:+0100
TZOFFSETTO:+0200
TZNAME:CEST
DTSTART:20230326T010000
END:DAYLIGHT
BEGIN:STANDARD
TZOFFSETFROM:+0200
TZOFFSETTO:+0100
TZNAME:CET
DTSTART:20231029T010000
END:STANDARD
BEGIN:DAYLIGHT
TZOFFSETFROM:+0100
TZOFFSETTO:+0200
TZNAME:CEST
DTSTART:20240331T010000
END:DAYLIGHT
BEGIN:STANDARD
TZOFFSETFROM:+0200
TZOFFSETTO:+0100
TZNAME:CET
DTSTART:20241027T010000
END:STANDARD
BEGIN:DAYLIGHT
TZOFFSETFROM:+0100
TZOFFSETTO:+0200
TZNAME:CEST
DTSTART:20250330T010000
END:DAYLIGHT
BEGIN:STANDARD
TZOFFSETFROM:+0200
TZOFFSETTO:+0100
TZNAME:CET
DTSTART:20251026T010000
END:STANDARD
END:VTIMEZONE
BEGIN:VEVENT
DTSTART;TZID=Europe/Berlin:20240606T150000
DTEND;TZID=Europe/Berlin:20240606T170000
DTSTAMP:20260421T214730
CREATED:20240424T092317Z
LAST-MODIFIED:20240425T122039Z
UID:19127-1717686000-1717693200@www.zentrum-ilmenau.digital
SUMMARY:Digitale Themenwoche "Booste dein Business": IT-Sicherheit und Recht - Datenschutz und -sicherheit als Eckpfeiler der digitalen Transformation
DESCRIPTION:In unserer zunehmend digitalisierten Welt sind fundierte Kenntnisse in Sicherheits- und Rechtsfragen unerlässlich für Unternehmen jeder Größe. Unsere Veranstaltung bietet tiefgehende Einblicke in essentielle Bereiche wie IT-Sicherheit\, Krisenmanagement\, Datenschutz und die rechtlichen Aspekte der Nutzung sozialer Medien. Experten erläutern bewährte Methoden\, um IT-Bedrohungen proaktiv zu vermeiden und effektiv auf Sicherheitsvorfälle zu reagieren. Zusätzlich informieren sie über die Einhaltung von Datenschutzbestimmungen und geben praktische Tipps\, wie rechtliche Fallstricke in der Nutzung sozialer Medien vermieden werden können. \n  \nHier können Sie sich anmelden. \nDas sind die Veranstaltungen der Digitalen Themenwoche „Booste dein Business“: \n\n\n\n03.06.2024 ab 15 Uhr\nNachhaltiger Erfolg im Netzwerk – Vorteile kooperativer Geschäftsmodelle​​​​​​​\n\n\n04.06.2024 ab 15 Uhr\nMit KI Prozesse optimieren! – Potenziale und Grundlagen für KI-Readiness\n\n\n05.06.2024 ab 15 Uhr\nKI trifft Kreativität – Die Zukunft von Marketing und Büroarbeit​​​​​​​ \n\n\n06.06.2024 ab 15 Uhr\nIT-Sicherheit und Recht – Datenschutz und -sicherheit als Eckpfeiler der digitalen Transformation\n\n\n\n  \nBei Fragen zur Veranstaltung wenden Sie sich gern an: \nIsabell Weiß\nModellfabrik Virtualisierung\nTelefon: 03641/205295\n weiss@kompetenzzentrum-ilmenau.de
URL:https://www.zentrum-ilmenau.digital/veranstaltung/it-sicherheit-und-recht-datenschutz-und-sicherheit-als-eckpfeiler-der-digitalen-transformation/
LOCATION:Online
ATTACH;FMTTYPE=image/jpeg:https://www.zentrum-ilmenau.digital/wp-content/uploads/2024/04/banner.jpg
END:VEVENT
END:VCALENDAR