BEGIN:VCALENDAR
VERSION:2.0
PRODID:-//Mittelstand-Digital Zentrum Ilmenau - ECPv6.15.17//NONSGML v1.0//EN
CALSCALE:GREGORIAN
METHOD:PUBLISH
X-ORIGINAL-URL:https://www.zentrum-ilmenau.digital
X-WR-CALDESC:Veranstaltungen für Mittelstand-Digital Zentrum Ilmenau
REFRESH-INTERVAL;VALUE=DURATION:PT1H
X-Robots-Tag:noindex
X-PUBLISHED-TTL:PT1H
BEGIN:VTIMEZONE
TZID:Europe/Berlin
BEGIN:DAYLIGHT
TZOFFSETFROM:+0100
TZOFFSETTO:+0200
TZNAME:CEST
DTSTART:20230326T010000
END:DAYLIGHT
BEGIN:STANDARD
TZOFFSETFROM:+0200
TZOFFSETTO:+0100
TZNAME:CET
DTSTART:20231029T010000
END:STANDARD
BEGIN:DAYLIGHT
TZOFFSETFROM:+0100
TZOFFSETTO:+0200
TZNAME:CEST
DTSTART:20240331T010000
END:DAYLIGHT
BEGIN:STANDARD
TZOFFSETFROM:+0200
TZOFFSETTO:+0100
TZNAME:CET
DTSTART:20241027T010000
END:STANDARD
BEGIN:DAYLIGHT
TZOFFSETFROM:+0100
TZOFFSETTO:+0200
TZNAME:CEST
DTSTART:20250330T010000
END:DAYLIGHT
BEGIN:STANDARD
TZOFFSETFROM:+0200
TZOFFSETTO:+0100
TZNAME:CET
DTSTART:20251026T010000
END:STANDARD
END:VTIMEZONE
BEGIN:VEVENT
DTSTART;TZID=Europe/Berlin:20240531T100000
DTEND;TZID=Europe/Berlin:20240531T120000
DTSTAMP:20260421T214858
CREATED:20240425T123233Z
LAST-MODIFIED:20240425T123233Z
UID:19210-1717149600-1717156800@www.zentrum-ilmenau.digital
SUMMARY:NIS-2 – Eine neue Richtlinie für Cybersicherheit richtig umsetzen
DESCRIPTION:Die NIS-2-Richtlinie (NIS – Network and Information Security) regelt die Cyber- und Informationssicherheit von Unternehmen und Institutionen. Mit Inkrafttreten einer neuen Richtlinie entstehen ab Oktober 2024 auch für viele Unternehmen\, die bisher nicht von diesen Vorschriften betroffen waren\, verpflichtende Sicherheitsmaßnahmen und Meldepflichten. \nVor diesem Hintergrund ist die Umsetzung der NIS-2-Richtlinie in aller Munde und wirft wichtige Fragen auf wie: \n\nIst mein Unternehmen davon betroffen?\nWelche Anforderungen müssen erfüllt werden?\n\nIn einem Online-Workshop\, der in Kooperation mit der Transferstelle CYBERsicher\, der IHK Ostthüringen zu Gera und der IHK Südthüringen stattfindet\, gibt Sophie Haak\, Expertin der Transferstelle CYBERsicher darauf Antworten und stellt Best Practices vor. Sie erhalten Einblick in die Sicherung kritischer Infrastrukturen\, digitaler Dienste und Datenschutz. Nutzen Sie diese Gelegenheit\, Ideen für erste Maßnahmen in Ihrem Unternehmen zu entwickeln. \nDie Anmeldung erfolgt über die Webseiten der Transferstelle CYBERsicher. Mit der Bestätigung Ihrer Anmeldung erhalten Sie den Zugangslink für Ihre Online-Teilnahme über Zoom. \n  \nBei Fragen zur Veranstaltung wenden Sie sich gern an: \nIsabell Weiß\nModellfabrik Virtualisierung\nTelefon: 03641/205295\n weiss@kompetenzzentrum-ilmenau.de \n 
URL:https://www.zentrum-ilmenau.digital/veranstaltung/nis-2-eine-neue-richtlinie-fuer-cybersicherheit-richtig-umsetzen/
LOCATION:Online
ATTACH;FMTTYPE=image/webp:https://www.zentrum-ilmenau.digital/wp-content/uploads/2024/04/NIS2.webp
ORGANIZER;CN="Mittelstand-Digital Zentrum Ilmenau":MAILTO:info@kompetenzzentrum-ilmenau.digital
END:VEVENT
END:VCALENDAR