BEGIN:VCALENDAR
VERSION:2.0
PRODID:-//Mittelstand-Digital Zentrum Ilmenau - ECPv6.15.17//NONSGML v1.0//EN
CALSCALE:GREGORIAN
METHOD:PUBLISH
X-ORIGINAL-URL:https://www.zentrum-ilmenau.digital
X-WR-CALDESC:Veranstaltungen für Mittelstand-Digital Zentrum Ilmenau
REFRESH-INTERVAL;VALUE=DURATION:PT1H
X-Robots-Tag:noindex
X-PUBLISHED-TTL:PT1H
BEGIN:VTIMEZONE
TZID:Europe/Berlin
BEGIN:DAYLIGHT
TZOFFSETFROM:+0100
TZOFFSETTO:+0200
TZNAME:CEST
DTSTART:20230326T010000
END:DAYLIGHT
BEGIN:STANDARD
TZOFFSETFROM:+0200
TZOFFSETTO:+0100
TZNAME:CET
DTSTART:20231029T010000
END:STANDARD
BEGIN:DAYLIGHT
TZOFFSETFROM:+0100
TZOFFSETTO:+0200
TZNAME:CEST
DTSTART:20240331T010000
END:DAYLIGHT
BEGIN:STANDARD
TZOFFSETFROM:+0200
TZOFFSETTO:+0100
TZNAME:CET
DTSTART:20241027T010000
END:STANDARD
BEGIN:DAYLIGHT
TZOFFSETFROM:+0100
TZOFFSETTO:+0200
TZNAME:CEST
DTSTART:20250330T010000
END:DAYLIGHT
BEGIN:STANDARD
TZOFFSETFROM:+0200
TZOFFSETTO:+0100
TZNAME:CET
DTSTART:20251026T010000
END:STANDARD
END:VTIMEZONE
BEGIN:VEVENT
DTSTART;TZID=Europe/Berlin:20240529T093000
DTEND;TZID=Europe/Berlin:20240529T163000
DTSTAMP:20260421T214853
CREATED:20240427T154007Z
LAST-MODIFIED:20240524T112421Z
UID:19228-1716975000-1717000200@www.zentrum-ilmenau.digital
SUMMARY:InnoMEET: Konstrukteurstag 2024 - Neue Technologien und deren Anwendung im Werkzeugbau
DESCRIPTION:Am 29. Mai 2024 laden das Thüringer ClusterManagement\, die Ernst-Abbe-Hochschule Jena und das Mittelstand-Digital Zentrum Ilmenau\, zum Konstrukteurstag 2024 nach Jena ein\, der in diesem Jahr zum Schwerpunkt „Neue Technologien und deren Anwendung im Werkzeugbau“ stattfindet. \nNeben Fachvorträgen und Informationen zu Unterstützungsmöglichkeiten für Ihre Forschungs- und Technologietransferprojekte bietet die Veranstaltung verschiedene Möglichkeiten\, mit anderen Unternehmen und Forschungseinrichtungen ins Gespräch zu kommen\, Erfahrungen auszutauschen und Ansätze für gemeinsame Ideen und Projekte zu diskutieren. \nAgenda: \n\n\n\n9.30 Uhr\nBegrüßung und Eröffnung\n\n\n9.40 Uhr\nVorstellung der Studienergebnisse „Zukunftsperspektive der Kunststoffverarbeitung und -verwendung in Thüringen“ \nAnke Schadewald\, Institut für Kunststofftechnologie & -recycling e.V.\n\n\n10.30 Uhr\nDiskussion zu den Studienergebnissen\n\n\n11.10 Uhr\nVorstellungsrunde\n\n\n12.15 Uhr\nMittagspause\n\n\n13.00 Uhr\nVortrag „Kunststofftechnik und Werkzeugbau – neue Wege und Geschäftsmodelle“ \nProf. Thomas Seul (HS Schmalkalden/ Präsident VDWF) \n\nAktuelle Zahlen und Statistiken zur Branche\nStatus Quo: Wo stehen wir? Wie hat sich der Markt / Wettbewerbssituation in den letzten Jahren verändert? Wie sind die Prognosen? Was können wir tun? Fachkräfte?\nNeue Geschäftsmodelle / deutscher Werkzeugbau der Zukunft\n\n\n\n\n13.35 Uhr\nInteraktiver Programmteil \nEinführung Prof. Jens Bliedtner\, Ernst-Abbe-Hochschule Jena\n\n\n13.40 Uhr\nDiskussionsecken \n\nMIM-Technologien – Dr. Schwarz (GKN Sinter Metals GmbH)\nKunststoff für optische Anwendungen & Lichtplanung – Hr. Zosel (ORAFOL Fresnel Optics GmbH)\nBlasformen – Hr. Markus Tzschach (Werkzeugbau Tzschach GmbH)\nFunktionsintegration in neue Produkte durch Kunststofffunktionalisierung – Prof. Bliedtner (EAH Jena)\nDichtungs- und Klebetechnik (Kunststoff-Metall) – ifw\nKonstruktionsthemen (Konstruktion und Simulation) – Hr. Hoffmann (Arc Solutions GmbH)\nBiopolymere und Rezyklate – Hr. Römhild (WIS-Kunststofftechnik)\nFachkräftegewinnung – Eyleen Sinnhöfer (INTENT BRANDS)\n\n\n\n\n15.40 Uhr\nZusammenfassung und Ausblick\n\n\n16.00 Uhr\nAusklang und Get-together\n\n\n16.30 Uhr\nEnde der Veranstaltung\n\n\n\n  \nHier können Sie sich anmelden. \nBei Fragen zur Veranstaltung wenden Sie sich gern an: \nDr. Kerstin Michalke\nTelefon: +49 3641 – 205 390\nE-Mail: kerstin.michalke@eah-jena.de
URL:https://www.zentrum-ilmenau.digital/veranstaltung/innomeet-konstrukteurstag-2024-neue-technologien-und-deren-anwendung-im-werkzeugbau/
LOCATION:Ernst-Abbe-Hochschule Jena\, Carl-Zeiss-Promenade 2\, Jena\, Thüringen\, 07745\, Deutschland
ORGANIZER;CN="Th%C3%BCringer Clustermanagement":MAILTO:info@cluster-thueringen.de
END:VEVENT
END:VCALENDAR