BEGIN:VCALENDAR
VERSION:2.0
PRODID:-//Mittelstand-Digital Zentrum Ilmenau - ECPv6.15.17//NONSGML v1.0//EN
CALSCALE:GREGORIAN
METHOD:PUBLISH
X-ORIGINAL-URL:https://www.zentrum-ilmenau.digital
X-WR-CALDESC:Veranstaltungen für Mittelstand-Digital Zentrum Ilmenau
REFRESH-INTERVAL;VALUE=DURATION:PT1H
X-Robots-Tag:noindex
X-PUBLISHED-TTL:PT1H
BEGIN:VTIMEZONE
TZID:Europe/Berlin
BEGIN:DAYLIGHT
TZOFFSETFROM:+0100
TZOFFSETTO:+0200
TZNAME:CEST
DTSTART:20230326T010000
END:DAYLIGHT
BEGIN:STANDARD
TZOFFSETFROM:+0200
TZOFFSETTO:+0100
TZNAME:CET
DTSTART:20231029T010000
END:STANDARD
BEGIN:DAYLIGHT
TZOFFSETFROM:+0100
TZOFFSETTO:+0200
TZNAME:CEST
DTSTART:20240331T010000
END:DAYLIGHT
BEGIN:STANDARD
TZOFFSETFROM:+0200
TZOFFSETTO:+0100
TZNAME:CET
DTSTART:20241027T010000
END:STANDARD
BEGIN:DAYLIGHT
TZOFFSETFROM:+0100
TZOFFSETTO:+0200
TZNAME:CEST
DTSTART:20250330T010000
END:DAYLIGHT
BEGIN:STANDARD
TZOFFSETFROM:+0200
TZOFFSETTO:+0100
TZNAME:CET
DTSTART:20251026T010000
END:STANDARD
END:VTIMEZONE
BEGIN:VEVENT
DTSTART;TZID=Europe/Berlin:20240528T130000
DTEND;TZID=Europe/Berlin:20240528T170000
DTSTAMP:20260421T214900
CREATED:20240429T114127Z
LAST-MODIFIED:20240429T114556Z
UID:19240-1716901200-1716915600@www.zentrum-ilmenau.digital
SUMMARY:17. Thüringer For­schungs- und Tech­no­lo­gie­fo­rum 2024
DESCRIPTION:Prozessdaten\, Gesetzgebung und Innovationsanreize – Einbindung ins unternehmerische Innovationsmanagement\nDas 17. Thüringer Forschungs- und Technologieforum 2024 nimmt in diesem Jahr die Entwicklungen rund um die Prozessdatenanalyse und Auswertung\, die rechtlichen Herausforderungen aus der EU-Gesetzgebung an die Industrie und die Anreize der aktuellen Thüringer FuE-Förderung für das betriebliche Innovationsmanagement in den Blick. \nHier können Sie den Flyer downloaden. \nProzessdaten stellen aktuell und zukünftig die zentrale Grundlage für wertschöpfende Prozesse im Fertigungsumfeld dar. Insbesondere im Bereich der Prozesssicherheit\, Effizienz und Nachverfolgbarkeit sind sie nicht mehr wegzudenken. In der Veranstaltung werden Beispiele aufgezeigt\, wie Daten erhoben\, mittels standardisierter Schnittstellen übertragen und automatisiert ausgewertet und nutzbar gemacht werden können. Konkret werden Lösungen aus Forschung und angewandter Praxis im Bereich IoT\, OPC-UA Schnittstellen\, In-Prozess-Sensorik und KI-gestützter Qualitätssicherung präsentiert und diese mit einem Erfahrungsbericht aus der betrieblichen Praxis abgeglichen. \nNicht weniger intensiv sind die Entwicklungen im Bereich der europäischen Gesetzgebung. Mit einer Vielzahl an Verordnungen\, Richtlinien\, Regularien und Standards versucht die Legislative\, mit den rasanten technischen Innovationen\, den globalen Entwicklungen und Transformationsprozessen regulierend Schritt zu halten. Die Thüringer Unternehmen werden durch vielfältige Regulatorien bezüglich Produkthaftung\, CE-Kennzeichnung\, Nachhaltigkeit\, digitaler Produktpass etc.\, etc. massiv unter Druck gesetzt. Zudem werfen die Innovationssprünge rund um Cyber\, KI und Digitalisierung Fragestellungen für die rechtsichere betriebliche Umsetzung auf\, die in der Veranstaltung lösungsorientiert beantwortet werden sollen. \nUnd dann noch die Kosten: Neue Produkte und Dienstleistungen zu entwickeln\, ist mit hohen Projektaufwendungen verbunden. Hier kann man sich einerseits mit Unternehmen und Forschungseinrichtungen in FuE-Verbünden ressourcenschonend und Synergien bildend zusammenschließen\, anderseits aber auch die Innovationsanreize von „Thüringen MOTIVation“ nutzen. Die Innovationsförderung soll die Umsetzung von Innovationsprojekten finanziell unterstützen. Doch kommt die neue FuE-Förderung auch an? Eine Antwort gibt die Veranstaltung mit einem Blick in die aktuelle Förderpraxis. \nModeration: Matthias Zrubek\, Geschäftsführer Forschungs- und Technologieverbund Thüringen e.V. \nAgenda \n  \n\n\n\n11:00 Uhr\nOptional: Rundgang durch die GFE – Gesellschaft für Fertigungstechnik und Entwicklung Schmalkalden e.V.\n\n\n12:30 Uhr\nEintreffen / Registrierung / Mittagsimbiss\n\n\n13:00 Uhr\nBegrüßung \nTorsten Herrmann – Präsident\, IHK Südthüringen\n\n\n13:15 Uhr\nDie aktuelle Thüringer Innovationslandschaft \nDr. Sebastian Stark – Referatsleiter Technologieförderung\, Thüringer Minister für Wirtschaft\, Wissenschaft und Digitale Gesellschaft\n\n\n13:30 Uhr\nWas lernen wir aus Prozessdaten? Von der Werkzeugschneide bis zum Shopfloor \nDr.-Ing. Florian Welzel – Geschäftsführer\, GFE – Gesellschaft für Fertigungstechnik und Entwicklung Schmalkalden e.V.\n\n\n14:00 Uhr\nDatenmanagementsysteme in der Praxis – Ein Erfahrungsbericht \nTorsten Herrmann – Geschäftsführer\, Hehnke GmbH & Co. KG\n\n\n14:30 Uhr\nPause\n\n\n15:00 Uhr\nCyber\, neue Produkthaftung und KI – Rechtliche Herausforderungen aus der EU an die Industrie \nProf. Dr. Thomas Klindt – Rechtsanwalt / Partner / Fachanwalt für Verwaltungsrecht\, Noerr Partnerschaftsgesellschaft mbH\n\n\n16:30 Uhr\nThüringen Verbund Dynamik & Co. in der Praxis – Die aktuelle FuE-Förderung in Thüringer Innovationsprojekten  \nHendrik Schade – Abteilungsleiter Technologieförderung\, Thüringer Aufbaubank\n\n\n17:00 Uhr\nEnde der Veranstaltung\n\n\n\n 
URL:https://www.zentrum-ilmenau.digital/veranstaltung/17-thueringer-forschungs-und-technologieforum-2024/
LOCATION:GFE Schmalkalden e.V.\, Näherstiller Straße 10\, Schmalkalden\, 98574\, Deutschland
CATEGORIES:Extern
END:VEVENT
BEGIN:VEVENT
DTSTART;TZID=Europe/Berlin:20240528T160000
DTEND;TZID=Europe/Berlin:20240528T180000
DTSTAMP:20260421T214900
CREATED:20240216T114551Z
LAST-MODIFIED:20240430T130035Z
UID:17689-1716912000-1716919200@www.zentrum-ilmenau.digital
SUMMARY:KI Connect: Anwendungsszenarien von KI im E-Commerce
DESCRIPTION:In der aktuellen Veranstaltung der KI-Connect Reihe des Zentrums für Angewandte Künstliche Intelligenz (ZAKI) geht es darum\, wie Künstliche Intelligenz Geschäftsprozesse im E-Commerce verbessern kann. Zwei Experten geben hier anhand konkreter Anwendungsbeispiele praktische Einblicke. \nFolgende spannende Vorträge erwarten Sie: \n  \nRené Kessler (Director Product Management at Salesforce): \nAI/ML Use Cases im E-Commerce \nAus einer Business Perspektive zeigt der Beitrag anhand konkreter Use Cases Möglichkeiten wie die individuelle Customer Journey im E-Commerce mit Hilfe von Künstlicher Intelligenz optimiert werden kann. Dazu wird in Showcases ein Einblick in Datengrundlagen und Analysemöglichkeiten gegeben. \n  \nMichael Mörs (CEO Epic Insights):  \nErmittlung des ROI von Daten und KI – am Beispiel E-Commerce Demand Management  \nAnhand eines realen Projekts wird beispielhaft aufgezeigt\, wie der Nutzen und ROI eines KI-basierten Demand Managements für einen mittelständischen Multichannel-Online-Händler ermittelt werden kann. Hierbei wird sowohl auf Zeit- als auch auf Kosten-Perspektiven entlang der Einkaufs- und Warenprozesse eingegangen. \n  \nAnschließend laden wir zum weiteren Wissensaustausch und zur Diskussion ein. \n  \nAnmeldung erforderlich – Sichern Sie sich Ihre Teilnahme mit einer Anmeldungsmail an zaki@eah-jena.de \nDas ZAKI-Team freut sich\, Sie bei KI Connect begrüßen zu dürfen! \n 
URL:https://www.zentrum-ilmenau.digital/veranstaltung/ki-veraendert-geschaeftsprozesse/
LOCATION:Salesforce Jena\, Leutragraben\, Jena\, 07743\, Deutschland
CATEGORIES:Extern,Fachworkshops,KI-Hub,Veranstaltung Dritter
ATTACH;FMTTYPE=image/jpeg:https://www.zentrum-ilmenau.digital/wp-content/uploads/2024/02/Flyer_o.Text_KI-Connect_2024_05.jpg
END:VEVENT
END:VCALENDAR