BEGIN:VCALENDAR
VERSION:2.0
PRODID:-//Mittelstand-Digital Zentrum Ilmenau - ECPv6.15.17//NONSGML v1.0//EN
CALSCALE:GREGORIAN
METHOD:PUBLISH
X-WR-CALNAME:Mittelstand-Digital Zentrum Ilmenau
X-ORIGINAL-URL:https://www.zentrum-ilmenau.digital
X-WR-CALDESC:Veranstaltungen für Mittelstand-Digital Zentrum Ilmenau
REFRESH-INTERVAL;VALUE=DURATION:PT1H
X-Robots-Tag:noindex
X-PUBLISHED-TTL:PT1H
BEGIN:VTIMEZONE
TZID:Europe/Berlin
BEGIN:DAYLIGHT
TZOFFSETFROM:+0100
TZOFFSETTO:+0200
TZNAME:CEST
DTSTART:20230326T010000
END:DAYLIGHT
BEGIN:STANDARD
TZOFFSETFROM:+0200
TZOFFSETTO:+0100
TZNAME:CET
DTSTART:20231029T010000
END:STANDARD
BEGIN:DAYLIGHT
TZOFFSETFROM:+0100
TZOFFSETTO:+0200
TZNAME:CEST
DTSTART:20240331T010000
END:DAYLIGHT
BEGIN:STANDARD
TZOFFSETFROM:+0200
TZOFFSETTO:+0100
TZNAME:CET
DTSTART:20241027T010000
END:STANDARD
BEGIN:DAYLIGHT
TZOFFSETFROM:+0100
TZOFFSETTO:+0200
TZNAME:CEST
DTSTART:20250330T010000
END:DAYLIGHT
BEGIN:STANDARD
TZOFFSETFROM:+0200
TZOFFSETTO:+0100
TZNAME:CET
DTSTART:20251026T010000
END:STANDARD
END:VTIMEZONE
BEGIN:VEVENT
DTSTART;VALUE=DATE:20240514
DTEND;VALUE=DATE:20240517
DTSTAMP:20260421T232410
CREATED:20240424T090058Z
LAST-MODIFIED:20240425T084109Z
UID:19114-1715644800-1715903999@www.zentrum-ilmenau.digital
SUMMARY:Erleben Sie die facettenreiche Welt des 3D-Drucks: Rapid.Tech 3D Messe in Erfurt – Wir sind dabei.
DESCRIPTION:Vom 14. bis 16. Mai 2024 findet zum nunmehr 20. Mal die Rapid.Tech 3D auf der Messe Erfurt statt. Auch wir sind wieder dabei. Unsere Modellfabrik Virtualisierung ist auf dem Stand der Ernst-Abbe-Hochschule Jena als Mitaussteller vertreten und präsentieren unsere Angebote für kleine und mittlere Unternehmen rund um das Thema 3D-Druck. Wir zeigen Ergebnisse aus erfolgreichen Umsetzungsprojekten mit Unternehmen und Ausschnitte aus unserer 3D-Druck-Mustersammlung. \nSie haben Interesse an einem kostenfreien Besucherticket? Dann melden Sie sich bei Dr. Kerstin Michalke\, der 3D-Druck-Expertin unserer Modellfabrik Virtualisierung per E-Mail michalke@kompetenzzentrum-ilmenau.de oder telefonisch unter 03641/205-390. \nAlle Informationen rund um die Messe finden Sie auf den Webseiten der Rapid.Tech 3D.
URL:https://www.zentrum-ilmenau.digital/veranstaltung/erleben-sie-die-facettenreiche-welt-des-3d-drucks-rapid-tech-3d-messe-in-erfurt-wir-sind-dabei-2/
LOCATION:Messe Erfurt\, Gothaer Straße 34\, Erfurt\, 99094\, Deutschland
CATEGORIES:Konferenz,Veranstaltung Dritter
ATTACH;FMTTYPE=image/jpeg:https://www.zentrum-ilmenau.digital/wp-content/uploads/2024/04/Banner-RapidTech-2024.jpg
END:VEVENT
BEGIN:VEVENT
DTSTART;TZID=Europe/Berlin:20240514T140000
DTEND;TZID=Europe/Berlin:20240514T150000
DTSTAMP:20260421T232410
CREATED:20240419T081936Z
LAST-MODIFIED:20240507T121539Z
UID:19054-1715695200-1715698800@www.zentrum-ilmenau.digital
SUMMARY:KI-Stammtisch Spektralbildverarbeitung und KI zur Klassifikation von Gesteinskörnungen
DESCRIPTION:Für die Betonherstellung werden Gesteinskörnungen als Zuschlagsstoff benötigt. Diese müssen möglichst frei von bestimmten Verunreinigungen sind\, welche den Beton auf Dauer schädigen können. Daher werden schnelle und automatisierte Verfahren zur stichprobenartigen Beurteilung von Gesteinskörnungen benötigt\, um das Material aus vorhandenen Lagerstätten und Steinbrüche optimal einsetzen zu können\, je nach Qualität z. B. für die Betonherstellung oder im Tief- bzw. Wegebau. Eine automatisierte Erkennung ermöglicht es\, die langwierigen Betondauerhaftigkeitstests an Betonprobekörpern zu ergänzen oder gar abzulösen. \nIm Rahmen des Projektes HyPetro erfolgte die Realisierung einer automatisierten\, petrographischen Analyse von Gesteinskörnungen mit hoher Erkennungsgüte. Das System arbeitet mit einer Hyperspektralkamera für die Aufnahme der spektralen Charakteristik sowie einer hoch-ortsaufgelösten RGB-Farbzeilenkamera zur Erfassung der Textur. Die Klassifikation in die laut Normen zu unterscheidenden Gesteinfraktion erfolgt mittels Deep-Learning. \n \n  \nÜber den KI-Stammtisch\nDer „KI-Stammtisch“ ist ein regionales Veranstaltungsformat für Entwickler und Anwender von KI-Lösungen. Im monatlichen Rhythmus werden konkrete KI-Lösungen oder aktuelle Entwicklungen im Bereich der KI-Technologien vorgestellt. Der „KI-Stammtisch“ richtet sich besonders auch an Unternehmen\, die einen Einblick in Problemstellungen bei der technischen Umsetzung von KI-Lösungen erhalten möchten. Gleichzeitig dienen die Veranstaltungen dem gegenseitigen Kennenlernen\, der Vernetzung untereinander und dem Wissens- und Erfahrungsaustausch. \nDie Stammtische finden immer am zweiten Dienstag im Monat statt. \nHier gelangen Sie zur Veranstaltung. \n  \nBei Fragen zur Veranstaltung wenden Sie sich gern an: \nDr. Daniel Garten\nKI-Trainer Modellfabrik Prozessdaten\n+49 3683 6900-86 \ngarten@kompetenzzentrum-ilmenau.de
URL:https://www.zentrum-ilmenau.digital/veranstaltung/ki-stammtisch-spektralbildverbeitung-und-ki-zur-klassifikation-von-gesteinskoernungen/
LOCATION:Online
CATEGORIES:KI-Hub
ATTACH;FMTTYPE=image/jpeg:https://www.zentrum-ilmenau.digital/wp-content/uploads/2024/04/Concrete-mixer-truck-1820584-scaled-e1716818147827.jpg
ORGANIZER;CN="Mittelstand-Digital Zentrum Ilmenau":MAILTO:info@kompetenzzentrum-ilmenau.digital
END:VEVENT
END:VCALENDAR