BEGIN:VCALENDAR
VERSION:2.0
PRODID:-//Mittelstand-Digital Zentrum Ilmenau - ECPv6.15.17//NONSGML v1.0//EN
CALSCALE:GREGORIAN
METHOD:PUBLISH
X-ORIGINAL-URL:https://www.zentrum-ilmenau.digital
X-WR-CALDESC:Veranstaltungen für Mittelstand-Digital Zentrum Ilmenau
REFRESH-INTERVAL;VALUE=DURATION:PT1H
X-Robots-Tag:noindex
X-PUBLISHED-TTL:PT1H
BEGIN:VTIMEZONE
TZID:Europe/Berlin
BEGIN:DAYLIGHT
TZOFFSETFROM:+0100
TZOFFSETTO:+0200
TZNAME:CEST
DTSTART:20230326T010000
END:DAYLIGHT
BEGIN:STANDARD
TZOFFSETFROM:+0200
TZOFFSETTO:+0100
TZNAME:CET
DTSTART:20231029T010000
END:STANDARD
BEGIN:DAYLIGHT
TZOFFSETFROM:+0100
TZOFFSETTO:+0200
TZNAME:CEST
DTSTART:20240331T010000
END:DAYLIGHT
BEGIN:STANDARD
TZOFFSETFROM:+0200
TZOFFSETTO:+0100
TZNAME:CET
DTSTART:20241027T010000
END:STANDARD
BEGIN:DAYLIGHT
TZOFFSETFROM:+0100
TZOFFSETTO:+0200
TZNAME:CEST
DTSTART:20250330T010000
END:DAYLIGHT
BEGIN:STANDARD
TZOFFSETFROM:+0200
TZOFFSETTO:+0100
TZNAME:CET
DTSTART:20251026T010000
END:STANDARD
END:VTIMEZONE
BEGIN:VEVENT
DTSTART;TZID=Europe/Berlin:20240424T090000
DTEND;TZID=Europe/Berlin:20240424T150000
DTSTAMP:20260422T010117
CREATED:20240219T133444Z
LAST-MODIFIED:20240308T104055Z
UID:17703-1713949200-1713970800@www.zentrum-ilmenau.digital
SUMMARY:Tagesseminar Suchmaschinenoptimierung: Wie mache ich meine Webseite in Zeiten von KI sichtbar
DESCRIPTION:Die Sichtbarkeit im Internet Ihres Unternehmens steht bei diesem Seminar im Vordergrund. Erfahren Sie\, wie Sie mit einfachen und meist kostenlosen Mitteln\, die Sichtbarkeit Ihrer Internetseite in Suchmaschinen deutlich erhöhen können. Nur wer im Internet relevante Suchergebnisse liefern kann\, welche auch der Suchintention des Nutzers gerecht werden\, wird auch von Interessenten gefunden. In dem Seminar lernen Sie konkrete Optimierungsmöglichkeiten und Handlungsempfehlungen kennen. \nEgal ob Sie eine Unternehmens-Internetseite oder einen Onlineshop betreiben\, in dem Seminar wird mit praktischen Beispielen auf verschiedene Formen von Internetpräsenzen eingegangen. Auch neueste KI-Entwicklungen bei den Suchmaschinen und Ihren Ergebnissen\, wie z.B. Search Generative Engine (SGE) oder Copilot werden mit einbezogen. \n\nWebsicherheit am Anfang berücksichtigen – warum ein SSL-Zertifikat nicht ausreicht.\nGrundlegende Suchmaschinenoptimierung – die 20 wichtigsten Faktoren On-Page.\nProfessionelle Keyword-Recherche – was wird wirklich gesucht?\nFortgeschrittene Texterstellung E-E-A-T\, YLYM und Natural Language Grundsätze.\nSuchmaschinenfreundliche Medienverwendung mit Bildern und Videos.\nGenerative Engine Optimization (GEO) – SEO für generative KI bei Suchmaschinen.\nCostumer Journey verstehen und User Experience steigern – Analysemöglichkeiten der Nutzerbewegungen.\nTechnische SEO-Maßnahmen für Ladezeit & „Mobile only“ – Optimierungsfaktoren.\nEffektiver Backlinkaufbau mit kostenlosen Mitteln.\n„Local-SEO“ Optimierung – wie erreiche ich Interessenten an meinem Standort?\nLandingpages zur Vertriebskanalerweiterung und Sichtbarkeitssteigerung.\nTTDSG-konformes Tracking und Analysemöglichkeiten.\nSprachsuche\, Virtual Reality geeignete Internetseiten und Zukunftsausblick.\n\n  \nBei Fragen zur Veranstaltung wenden Sie sich gern an: \nKarsten Jahn \nKI-Trainer\nModellfabrik Virtualisierung\nMail: jahn@kompetenzzentrum-ilmenau.de
URL:https://www.zentrum-ilmenau.digital/veranstaltung/tagesseminar-suchmaschinenoptimierung/
LOCATION:Internationales Centrum – Haus auf der Mauer\, Johannisplatz 26\, Jena\, 07743
ATTACH;FMTTYPE=image/jpeg:https://www.zentrum-ilmenau.digital/wp-content/uploads/2024/02/Layer_1-scaled.jpg
ORGANIZER;CN="Mittelstand-Digital Zentrum Ilmenau":MAILTO:info@kompetenzzentrum-ilmenau.digital
END:VEVENT
BEGIN:VEVENT
DTSTART;TZID=Europe/Berlin:20240424T090000
DTEND;TZID=Europe/Berlin:20240425T160000
DTSTAMP:20260422T010117
CREATED:20240322T135040Z
LAST-MODIFIED:20240322T135348Z
UID:18768-1713949200-1714060800@www.zentrum-ilmenau.digital
SUMMARY:Escape Room: Mission Standards - Rettet den Staudamm!
DESCRIPTION:Der mobile Escape Room des Mittelstand-Digital Zentrums WertNetzWerke lädt an zwei Tagen zur Rettung des Staudamms ein! Durch spielerische Elemente werden wichtige eStandards und innovative Technologien vermittelt\, wie zum Beispiel RFID\, QR-Code\, Tracking/Tracing und KI – wie auch bei heutigen digitalen Herausforderungen\, als auch zum erfolgreichen Abschließen des Escape Rooms\, dienen Ihnen diese Werkzeuge zum Lösen ihrer Probleme. \nAm 24.04 veranstaltet die IHK Erfurt die Escape Rooms\, am 25.04. finden diese in Kooperation mit der Digitalagentur Thüringen statt. Weitere Informationen zur Veranstaltung finden Sie hier: Tag 1 & Tag 2.
URL:https://www.zentrum-ilmenau.digital/veranstaltung/escape-room-mission-standards-rettet-den-staudamm/
LOCATION:IHK Erfurt\, 99096\, Arnstädter Str. 34\, Thüringen\, 99096\, Deutschland
CATEGORIES:Extern,Interaktiver Workshop
ATTACH;FMTTYPE=image/jpeg:https://www.zentrum-ilmenau.digital/wp-content/uploads/2024/03/Business-Escape-Room-e1711115619354.jpg
END:VEVENT
END:VCALENDAR