BEGIN:VCALENDAR
VERSION:2.0
PRODID:-//Mittelstand-Digital Zentrum Ilmenau - ECPv6.15.17//NONSGML v1.0//EN
CALSCALE:GREGORIAN
METHOD:PUBLISH
X-WR-CALNAME:Mittelstand-Digital Zentrum Ilmenau
X-ORIGINAL-URL:https://www.zentrum-ilmenau.digital
X-WR-CALDESC:Veranstaltungen für Mittelstand-Digital Zentrum Ilmenau
REFRESH-INTERVAL;VALUE=DURATION:PT1H
X-Robots-Tag:noindex
X-PUBLISHED-TTL:PT1H
BEGIN:VTIMEZONE
TZID:Europe/Berlin
BEGIN:DAYLIGHT
TZOFFSETFROM:+0100
TZOFFSETTO:+0200
TZNAME:CEST
DTSTART:20230326T010000
END:DAYLIGHT
BEGIN:STANDARD
TZOFFSETFROM:+0200
TZOFFSETTO:+0100
TZNAME:CET
DTSTART:20231029T010000
END:STANDARD
BEGIN:DAYLIGHT
TZOFFSETFROM:+0100
TZOFFSETTO:+0200
TZNAME:CEST
DTSTART:20240331T010000
END:DAYLIGHT
BEGIN:STANDARD
TZOFFSETFROM:+0200
TZOFFSETTO:+0100
TZNAME:CET
DTSTART:20241027T010000
END:STANDARD
BEGIN:DAYLIGHT
TZOFFSETFROM:+0100
TZOFFSETTO:+0200
TZNAME:CEST
DTSTART:20250330T010000
END:DAYLIGHT
BEGIN:STANDARD
TZOFFSETFROM:+0200
TZOFFSETTO:+0100
TZNAME:CET
DTSTART:20251026T010000
END:STANDARD
END:VTIMEZONE
BEGIN:VEVENT
DTSTART;TZID=Europe/Berlin:20240415T080000
DTEND;TZID=Europe/Berlin:20240419T170000
DTSTAMP:20260422T010006
CREATED:20231021T133044Z
LAST-MODIFIED:20240312T134419Z
UID:16285-1713168000-1713546000@www.zentrum-ilmenau.digital
SUMMARY:Data Week Leipzig 2024
DESCRIPTION:Bereiten Sie sich auf die dritte Data Week Leipzig vor\, die vom 15. bis 19. April 2024 stattfindet. \nDiese Veranstaltung verspricht eine weitere Woche voller Lernen\, Vernetzung und Innovation in den Bereichen Daten und KI. Sie haben die Möglichkeit\, die neuesten Trends und Fortschritte zu erkunden\, an interaktiven Workshops teilzunehmen\, inspirierende Keynotes zu hören und sich mit anderen Fachleuten und Wissenschaftler:innen zu vernetzen. \nDie Data Week Leipzig wird gemeinsam vom Institut für Angewandte Informatik\, ScaDS.AI Dresden/Leipzig und der eccenca GmbH organisiert. \nDie Inhalte zu den verschiedenen Tracks und Workshops sind nun auf der Data-Week-Website online und werden fortlaufend ergänzt. Entdecken Sie das vielfältige Programm rund um die Themen KI\, semantische Technologien und die Potenziale von Digitalisierung und Datennutzung in verschiedenen Arbeitsfeldern. Ab sofort können Sie dort unter dem Menüpunkt “Tracks” alle geplanten Formate\, die während der Data Week Leipzig stattfinden\, einsehen. Unter anderem werden neben einem KMI-Transfertag spannende Workshops zu den Themen GPT\, Digitalisierung in der Bildung\, Nachhaltige KI und 3D-Druck-Plattform sowie Trainings und Tutorials\, die einen Einblick in Use Cases und Datensätze geben\, angeboten. \nAuch wir mit dem Mittelstand-Digital Zentrum Ilmenau sind auf der Data Week mit einem Vortrag vertreten. Dr. Ninette Florschütz (Modellfabrik Vernetzung) wird im Sitzungssaal am Montag\, den 15.04.2024 um 13:30 Uhr zum Thema: „Die Verantwortungsfrage – KI und ihre Folgen: Wie KI die Kommunikationskultur der Unternehmen verändert“ referieren.
URL:https://www.zentrum-ilmenau.digital/veranstaltung/data-week-leipzig-2024/
CATEGORIES:Extern,KI-Hub
END:VEVENT
BEGIN:VEVENT
DTSTART;TZID=Europe/Berlin:20240419T110000
DTEND;TZID=Europe/Berlin:20240419T120000
DTSTAMP:20260422T010006
CREATED:20240320T072357Z
LAST-MODIFIED:20240320T110043Z
UID:18685-1713524400-1713528000@www.zentrum-ilmenau.digital
SUMMARY:Digitaler Frühjahrsputz – Tipps und Tool für das Aufräumen im digitalen Arbeitsumfeld | Teil 2: Outlook – voller Posteingang adé
DESCRIPTION:Ob privat oder im betrieblichen Umfeld – der Frühlingsbeginn ist für viele Anlass\, um aufzuräumen\, auszusortieren und Platz für Neues zu schaffen. Mit unserem Digitalen Frühjahrsputz – einer dreiteiligen Online-Veranstaltungsreihe – bieten wir praktische Unterstützung für das Aufräumen in Ihrem digitalen Arbeitsumfeld. Wir zeigen Beispiele und geben Tipps\, wie man dabei vorgeht\, stellen Tools und Werkzeuge vor\, die Ihnen das Ordnen und Aussortieren Ihrer Daten erleichtern und beantworten gern auch Ihre Fragen. Konkret geht es dabei um Ihr E-Mail-Postfach\, Ihre Social-Media-Kanäle und Ihre Zugangsdaten und Passwörter. \nÜbrigens: Durch das Entsorgen doppelter und überflüssiger Daten reduzieren Sie auch Ihren CO₂-Fußabdruck und schaffen einen nachhaltigen Arbeitsablauf. Denn ebenso wie in der analogen Welt belastet digitaler Müll unsere Umwelt. Unnötige E-Mails\, Dateien\, Apps\, Duplikate von Fotos und Videos verbrauchen Speicherplatz auf Servern\, für deren Betrieb viel Strom verbraucht wird. \nDie Veranstaltungsreihe findet in Zusammenarbeit mit dem Mittelstand-Digital-Zentrum Magdeburg\, der Transferstelle Cybersicherheit im Mittelstand und der IHK Ostthüringen zu Gera statt. \n12.04.2024  I  11 bis 12 Uhr – Teil 1\nIT-Sicherheit im Check [Anmeldung] \nSie haben sich schon lange vorgenommen\, Ihre Passwörter und Zugangsdaten mal zu sortieren und sich einen Passwortmanager einzurichten? Dann nutzen Sie die Gelegenheit\, denn sichere Passwörter sind wichtiger denn je\, um Ihr Unternehmen vor Phishing-Angriffen\, Datenlecks und Identitätsdiebstahl zu schützen. Ein Experte der Transferstelle Cybersicherheit im Mittelstand gibt Ihnen praktische Tipps und zeigt bewährte Tools\, die Ihnen die einfache Erstellung und sichere Verwaltung Ihrer Passwörter ermöglichen. \nDarüber hinaus stellt er NIS-2\, die neue Richtlinie für Cybersicherheit vor – ein Thema\, das aktuell viele Fragen aufwirft. Ist mein Unternehmen davon betroffen? Welche Anforderungen müssen erfüllt werden und wie setzt man diese um? Der Experte gibt hierzu einen kurzen Überblick. \n19.04.2024  I  11 bis 12 Uhr – Teil 2\nOutlook – voller Posteingang adé [Anmeldung]\n \nKennen Sie das auch: obwohl Sie Ihre E-Mails möglichst gleich beantworten\, weiterleiten oder löschen und sich eine passende Ordnerstruktur angelegt haben\, ist der Posteingang immer mal wieder voll und für das Aussortieren fehlt gerade die Zeit? In diesem Online-Seminar geben wir praktische Tipps\, wie Sie Ihren Outlook-Posteingang aufräumen und so organisieren können\, dass Ihre E-Mailverwaltung übersichtlicher und effizienter wird. Mario Schicht von der KUPPER IT GmbH zeigt\, dafür passende Strategien\, Funktionen und Beispiele\, die es ermöglichen\, wichtige Nachrichten von unwichtigen zu unterscheiden\, Spam zu reduzieren\, relevante Vorgänge zu sichern und unnötige Aufwände zu minimieren. \n26.04.2024  I  11 bis 12 Uhr – Teil 3\nSoziale Medien und Netzwerke – Passt das noch oder kann das weg? [Anmeldung]\n \nIm dritten Teil unserer Veranstaltungsreihe geht es um das Aufräumen auf den Social-Media-Kanälen. Der Vortrag von Dr. Stefan Voigt\, Leiter des Mittelstand-Digital Zentrums Magdeburg\, gibt Anregungen\, wie Sie Ihr Arbeitsumfeld in diesem Bereich entrümpeln und Ihre Online-Kommunikation über soziale Netzwerke wieder systematisch voranbringen. Was ist auf strategischer und operativer Ebene sinnvoll? Dazu werfen wir einen Blick auf die Social-Media-Kommunikation im Mittelstand-Digital Zentrum Magdeburg und das Zusammenspiel zwischen Organisation (Zentrum) und Person (Stefan Voigt). \n  \nDie Zugangsdaten zur Teilnahme an der Online-Veranstaltung erhalten Sie rechtzeitig vor dem Event per E-Mail an die Adresse\, mit der Sie sich angemeldet haben. \n  \nBei Fragen zur Veranstaltung wenden Sie sich gern an: \nIsabell Weiß\nModellfabrik Virtualisierung\nTelefon: +49 3641 205-295\nE-Mail: weiss@kompetenzzentrum-ilmenau.de
URL:https://www.zentrum-ilmenau.digital/veranstaltung/digitaler-fruehjahrsputz-tipps-und-tool-fuer-das-aufraeumen-im-digitalen-arbeitsumfeld-teil-2-outlook-voller-posteingang-ade/
LOCATION:Online
ATTACH;FMTTYPE=image/jpeg:https://www.zentrum-ilmenau.digital/wp-content/uploads/2024/03/DFP.jpg
ORGANIZER;CN="Mittelstand-Digital Zentrum Ilmenau":MAILTO:info@kompetenzzentrum-ilmenau.digital
END:VEVENT
END:VCALENDAR