BEGIN:VCALENDAR
VERSION:2.0
PRODID:-//Mittelstand-Digital Zentrum Ilmenau - ECPv6.15.17//NONSGML v1.0//EN
CALSCALE:GREGORIAN
METHOD:PUBLISH
X-ORIGINAL-URL:https://www.zentrum-ilmenau.digital
X-WR-CALDESC:Veranstaltungen für Mittelstand-Digital Zentrum Ilmenau
REFRESH-INTERVAL;VALUE=DURATION:PT1H
X-Robots-Tag:noindex
X-PUBLISHED-TTL:PT1H
BEGIN:VTIMEZONE
TZID:Europe/Berlin
BEGIN:DAYLIGHT
TZOFFSETFROM:+0100
TZOFFSETTO:+0200
TZNAME:CEST
DTSTART:20230326T010000
END:DAYLIGHT
BEGIN:STANDARD
TZOFFSETFROM:+0200
TZOFFSETTO:+0100
TZNAME:CET
DTSTART:20231029T010000
END:STANDARD
BEGIN:DAYLIGHT
TZOFFSETFROM:+0100
TZOFFSETTO:+0200
TZNAME:CEST
DTSTART:20240331T010000
END:DAYLIGHT
BEGIN:STANDARD
TZOFFSETFROM:+0200
TZOFFSETTO:+0100
TZNAME:CET
DTSTART:20241027T010000
END:STANDARD
BEGIN:DAYLIGHT
TZOFFSETFROM:+0100
TZOFFSETTO:+0200
TZNAME:CEST
DTSTART:20250330T010000
END:DAYLIGHT
BEGIN:STANDARD
TZOFFSETFROM:+0200
TZOFFSETTO:+0100
TZNAME:CET
DTSTART:20251026T010000
END:STANDARD
END:VTIMEZONE
BEGIN:VEVENT
DTSTART;TZID=Europe/Berlin:20240410T150000
DTEND;TZID=Europe/Berlin:20240410T170000
DTSTAMP:20260422T010117
CREATED:20240322T133740Z
LAST-MODIFIED:20240322T140218Z
UID:18761-1712761200-1712768400@www.zentrum-ilmenau.digital
SUMMARY:Hackerangriff hautnah: Live-Demo zu Cyber- und Einbruchssicherheit in Unternehmen
DESCRIPTION:ThEx Wirtschaft 4.0 lädt zu einem Workshop mit Fokus auf Cyber-Security ein. \nEs wird eine Live-Demo von Christoph Turkiendorf geben\, wie man Schlossmechanismen\, ob digital oder physisch\, knackt und weshalb robuste Schließsysteme wichtig sind. Die IBYKUS AG wird auch die Teilnehmenden für eine sichere Hardware-Politik und starken Passwortschutz sensibilisieren. Im Anschluss bietet das Event konkrete Lösungen und Strategien\, um sich vor die vorgestellten Angriffsmethoden zu schützen. \nWeitere Informationen und die Anmeldung zur Veranstaltung finden Sie hier.
URL:https://www.zentrum-ilmenau.digital/veranstaltung/hackerangriff-hautnah-live-demo-zu-cyber-und-einbruchssicherheit-in-unternehmen/
LOCATION:IBYKUS AG Für Informationstechnologie\, Herman-Hollerith-Straße\, 99099 Erfurt\, Deutschland\, Erfurt\, Thüringen\, 99099\, Germany
CATEGORIES:Extern,Fachworkshops
ATTACH;FMTTYPE=image/jpeg:https://www.zentrum-ilmenau.digital/wp-content/uploads/2024/03/Hackerangriff-hautnah-1.jpg
ORGANIZER;CN="Th%C3%BCringer Zentrum f%C3%BCr Existenzgr%C3%BCndungen und Unternehmertum (ThEx Wirtschaft 4.0)":MAILTO:dietrich@thueringen40.de
END:VEVENT
END:VCALENDAR