BEGIN:VCALENDAR
VERSION:2.0
PRODID:-//Mittelstand-Digital Zentrum Ilmenau - ECPv6.15.17//NONSGML v1.0//EN
CALSCALE:GREGORIAN
METHOD:PUBLISH
X-WR-CALNAME:Mittelstand-Digital Zentrum Ilmenau
X-ORIGINAL-URL:https://www.zentrum-ilmenau.digital
X-WR-CALDESC:Veranstaltungen für Mittelstand-Digital Zentrum Ilmenau
REFRESH-INTERVAL;VALUE=DURATION:PT1H
X-Robots-Tag:noindex
X-PUBLISHED-TTL:PT1H
BEGIN:VTIMEZONE
TZID:Europe/Berlin
BEGIN:DAYLIGHT
TZOFFSETFROM:+0100
TZOFFSETTO:+0200
TZNAME:CEST
DTSTART:20230326T010000
END:DAYLIGHT
BEGIN:STANDARD
TZOFFSETFROM:+0200
TZOFFSETTO:+0100
TZNAME:CET
DTSTART:20231029T010000
END:STANDARD
BEGIN:DAYLIGHT
TZOFFSETFROM:+0100
TZOFFSETTO:+0200
TZNAME:CEST
DTSTART:20240331T010000
END:DAYLIGHT
BEGIN:STANDARD
TZOFFSETFROM:+0200
TZOFFSETTO:+0100
TZNAME:CET
DTSTART:20241027T010000
END:STANDARD
BEGIN:DAYLIGHT
TZOFFSETFROM:+0100
TZOFFSETTO:+0200
TZNAME:CEST
DTSTART:20250330T010000
END:DAYLIGHT
BEGIN:STANDARD
TZOFFSETFROM:+0200
TZOFFSETTO:+0100
TZNAME:CET
DTSTART:20251026T010000
END:STANDARD
END:VTIMEZONE
BEGIN:VEVENT
DTSTART;TZID=Europe/Berlin:20240319T100000
DTEND;TZID=Europe/Berlin:20240319T113000
DTSTAMP:20260422T022058
CREATED:20240103T124350Z
LAST-MODIFIED:20240307T105841Z
UID:17018-1710842400-1710847800@www.zentrum-ilmenau.digital
SUMMARY:KI-Frühling 2024: KI und Recht: Neue Technik\, neue Regulation?
DESCRIPTION:In diesem Workshop erfahren Sie\, wie Sie die rechtlichen Hürden beim Einsatz von KI erfolgreich überwinden. Thematisiert werden u.a. datenschutz-\, haftungs- und urheberrechtliche Fragestellungen\, z.B. im Hinblick auf die EU-DSGVO und den EU-AI Act. Lernen Sie Risiken kennen und erfahren Sie\, wie Sie diese einschätzen können.   \n  \nVeranstaltungsziel \nSchärfung der Wahrnehmung für rechtliche Problemstellungen und Hinweise auf mögliche Lösungswege \n  \nAgenda \n\n\n\nVorstellung\nRecht und KI: Miteinander (un-)vereinbar?\nNeue Regelungen zum KI-Einsatz\nFazit\n\n\n\n  \nSie erhalten rechtzeitig vor Beginn der Veranstaltung die Zugangsdaten zum Online-Meeting-Raum. \n  \nReferierende Person: \n\n\n\n\n\n\nMichael Rätze\n\n\n\n\n\n\n  \nHier geht es zur Übersicht aller KI-Frühling-Veranstaltungen.
URL:https://www.zentrum-ilmenau.digital/veranstaltung/ki-fruehling-2024-ki-und-recht/
LOCATION:Online
CATEGORIES:eigene Veranstaltung,KI-Frühling,KI-Hub,Onlineseminare
ATTACH;FMTTYPE=image/jpeg:https://www.zentrum-ilmenau.digital/wp-content/uploads/2024/01/KIF2024_VA_Grafik.jpg
ORGANIZER;CN="Mittelstand-Digital Zentrum Ilmenau":MAILTO:info@kompetenzzentrum-ilmenau.digital
END:VEVENT
END:VCALENDAR