BEGIN:VCALENDAR
VERSION:2.0
PRODID:-//Mittelstand-Digital Zentrum Ilmenau - ECPv6.15.17//NONSGML v1.0//EN
CALSCALE:GREGORIAN
METHOD:PUBLISH
X-ORIGINAL-URL:https://www.zentrum-ilmenau.digital
X-WR-CALDESC:Veranstaltungen für Mittelstand-Digital Zentrum Ilmenau
REFRESH-INTERVAL;VALUE=DURATION:PT1H
X-Robots-Tag:noindex
X-PUBLISHED-TTL:PT1H
BEGIN:VTIMEZONE
TZID:Europe/Berlin
BEGIN:DAYLIGHT
TZOFFSETFROM:+0100
TZOFFSETTO:+0200
TZNAME:CEST
DTSTART:20230326T010000
END:DAYLIGHT
BEGIN:STANDARD
TZOFFSETFROM:+0200
TZOFFSETTO:+0100
TZNAME:CET
DTSTART:20231029T010000
END:STANDARD
BEGIN:DAYLIGHT
TZOFFSETFROM:+0100
TZOFFSETTO:+0200
TZNAME:CEST
DTSTART:20240331T010000
END:DAYLIGHT
BEGIN:STANDARD
TZOFFSETFROM:+0200
TZOFFSETTO:+0100
TZNAME:CET
DTSTART:20241027T010000
END:STANDARD
BEGIN:DAYLIGHT
TZOFFSETFROM:+0100
TZOFFSETTO:+0200
TZNAME:CEST
DTSTART:20250330T010000
END:DAYLIGHT
BEGIN:STANDARD
TZOFFSETFROM:+0200
TZOFFSETTO:+0100
TZNAME:CET
DTSTART:20251026T010000
END:STANDARD
END:VTIMEZONE
BEGIN:VEVENT
DTSTART;TZID=Europe/Berlin:20240314T100000
DTEND;TZID=Europe/Berlin:20240314T113000
DTSTAMP:20260422T023125
CREATED:20240109T144748Z
LAST-MODIFIED:20240131T120327Z
UID:17089-1710410400-1710415800@www.zentrum-ilmenau.digital
SUMMARY:KI-Frühling 2024: KI im Handwerk – Smarte Tools jenseits von ChatGPT
DESCRIPTION:Zum KI-Frühling 2023 haben wir uns gemeinsam Lösungen zu Chatbots\, Digitalem Aufmaß und Bedarfsvorausplanungen angesehen. Dieses Jahr machen wir einen Check-Up\, denn: Dank ChatGPT ist KI in den Fokus gerückt und hat entsprechend mehr DienstleisterInnen animiert\, Lösungen auf den Markt zu bringen\, die dem Handwerk helfen können. \nIm Fokus stehen Anwendungen\, die entweder bereits eingesetzt werden können\, oder bei denen Baukästen zur Verfügung stehen\, um die KI auf das Unternehmen zielgerichtet anzupassen. Sie interessiert ein Themenbereich ganz besonders\, den wir uns gemeinsam im Vortrag anschauen sollen? Schreiben Sie Ihren Vorschlag an robert.falkenstein@hwk-oberfranken.de \n  \nVeranstaltungsziel \nKI-Lösungen neben dem „gehypten“ ChatGPT kennenlernen und inspiriert werden\, das große Feld der KI im eigenen Unternehmen gewinnbringend einsetzen zu können. \n  \nAgenda  \n\n30 Minuten KI im Handwerk – wo stehen wir?\n30 Minuten KI im Handwerk – Beispiel Vorgehen bei Einkaufslösungen\n30 Minuten KI im Handwerk – Beispiel Vorgehen bei Baukästen\n\n  \nSie erhalten rechtzeitig vor Beginn der Veranstaltung die Zugangsdaten zum Online-Meeting-Raum. \n  \nReferierende Person: \n  \n\n\n\n\n\n\nRobert Falkenstein\n\n\n\n\n\n\n  \nHier geht es zur Übersicht aller KI-Frühling-Veranstaltungen.
URL:https://www.zentrum-ilmenau.digital/veranstaltung/ki-fruehling-2024-ki-im-handwerk/
LOCATION:Online
CATEGORIES:eigene Veranstaltung,KI-Frühling,KI-Hub
ATTACH;FMTTYPE=image/jpeg:https://www.zentrum-ilmenau.digital/wp-content/uploads/2024/01/KIF2024_VA_Grafik.jpg
ORGANIZER;CN="Mittelstand-Digital Zentrum Ilmenau":MAILTO:info@kompetenzzentrum-ilmenau.digital
END:VEVENT
END:VCALENDAR