BEGIN:VCALENDAR
VERSION:2.0
PRODID:-//Mittelstand-Digital Zentrum Ilmenau - ECPv6.15.17//NONSGML v1.0//EN
CALSCALE:GREGORIAN
METHOD:PUBLISH
X-WR-CALNAME:Mittelstand-Digital Zentrum Ilmenau
X-ORIGINAL-URL:https://www.zentrum-ilmenau.digital
X-WR-CALDESC:Veranstaltungen für Mittelstand-Digital Zentrum Ilmenau
REFRESH-INTERVAL;VALUE=DURATION:PT1H
X-Robots-Tag:noindex
X-PUBLISHED-TTL:PT1H
BEGIN:VTIMEZONE
TZID:Europe/Berlin
BEGIN:DAYLIGHT
TZOFFSETFROM:+0100
TZOFFSETTO:+0200
TZNAME:CEST
DTSTART:20230326T010000
END:DAYLIGHT
BEGIN:STANDARD
TZOFFSETFROM:+0200
TZOFFSETTO:+0100
TZNAME:CET
DTSTART:20231029T010000
END:STANDARD
BEGIN:DAYLIGHT
TZOFFSETFROM:+0100
TZOFFSETTO:+0200
TZNAME:CEST
DTSTART:20240331T010000
END:DAYLIGHT
BEGIN:STANDARD
TZOFFSETFROM:+0200
TZOFFSETTO:+0100
TZNAME:CET
DTSTART:20241027T010000
END:STANDARD
BEGIN:DAYLIGHT
TZOFFSETFROM:+0100
TZOFFSETTO:+0200
TZNAME:CEST
DTSTART:20250330T010000
END:DAYLIGHT
BEGIN:STANDARD
TZOFFSETFROM:+0200
TZOFFSETTO:+0100
TZNAME:CET
DTSTART:20251026T010000
END:STANDARD
END:VTIMEZONE
BEGIN:VEVENT
DTSTART;TZID=Europe/Berlin:20240305T140000
DTEND;TZID=Europe/Berlin:20240305T163000
DTSTAMP:20260422T022059
CREATED:20240126T131108Z
LAST-MODIFIED:20240126T131108Z
UID:17383-1709647200-1709656200@www.zentrum-ilmenau.digital
SUMMARY:WER hilft WIE in Thüringen - Nachhaltigkeit\, Finanzierung\, Förderung\, Fachkräftebedarf\, Digitalisierung\, Geschäftsentwicklung im Ausland
DESCRIPTION:Thüringer Unternehmen\, die vor aktuellen Herausforderungen in den Bereichen Nachhaltigkeit\, Finanzierung\, Fachkräftebedarf\, Digitalisierung oder Expansion ins Ausland stehen\, haben bei der Veranstaltung die Möglichkeit\, mit lokalen Expert:innen ins Gespräch zu kommen und kostenfreie Unterstützung zu erhalten. \nAn fünf Thementischen stehen Ihnen Expert:innen während der Veranstaltung für Ihre aktuellen und spezifischen Fragen zur Verfügung\, auch Constance Möhwald von der Modellfabrik Virtualisierung wird am Thementisch „Digitalisierung“ vertreten sein. \n  \nWeitere Informationen und die Möglichkeit zur Anmeldung finden Sie unter folgendem Link und in diesem Flyer.
URL:https://www.zentrum-ilmenau.digital/veranstaltung/wer-hilft-wie-in-thueringen-nachhaltigkeit-finanzierung-foerderung-fachkraeftebedarf-digitalisierung-geschaeftsentwicklung-im-ausland/
LOCATION:IHK Ostthüringen zu Gera\, Gaswerkstraße 23\, Gera\, 07546\, Deutschland
END:VEVENT
END:VCALENDAR