BEGIN:VCALENDAR
VERSION:2.0
PRODID:-//Mittelstand-Digital Zentrum Ilmenau - ECPv6.15.17//NONSGML v1.0//EN
CALSCALE:GREGORIAN
METHOD:PUBLISH
X-WR-CALNAME:Mittelstand-Digital Zentrum Ilmenau
X-ORIGINAL-URL:https://www.zentrum-ilmenau.digital
X-WR-CALDESC:Veranstaltungen für Mittelstand-Digital Zentrum Ilmenau
REFRESH-INTERVAL;VALUE=DURATION:PT1H
X-Robots-Tag:noindex
X-PUBLISHED-TTL:PT1H
BEGIN:VTIMEZONE
TZID:Europe/Berlin
BEGIN:DAYLIGHT
TZOFFSETFROM:+0100
TZOFFSETTO:+0200
TZNAME:CEST
DTSTART:20230326T010000
END:DAYLIGHT
BEGIN:STANDARD
TZOFFSETFROM:+0200
TZOFFSETTO:+0100
TZNAME:CET
DTSTART:20231029T010000
END:STANDARD
BEGIN:DAYLIGHT
TZOFFSETFROM:+0100
TZOFFSETTO:+0200
TZNAME:CEST
DTSTART:20240331T010000
END:DAYLIGHT
BEGIN:STANDARD
TZOFFSETFROM:+0200
TZOFFSETTO:+0100
TZNAME:CET
DTSTART:20241027T010000
END:STANDARD
BEGIN:DAYLIGHT
TZOFFSETFROM:+0100
TZOFFSETTO:+0200
TZNAME:CEST
DTSTART:20250330T010000
END:DAYLIGHT
BEGIN:STANDARD
TZOFFSETFROM:+0200
TZOFFSETTO:+0100
TZNAME:CET
DTSTART:20251026T010000
END:STANDARD
END:VTIMEZONE
BEGIN:VEVENT
DTSTART;TZID=Europe/Berlin:20240301T090000
DTEND;TZID=Europe/Berlin:20240301T100000
DTSTAMP:20260422T022101
CREATED:20240213T124714Z
LAST-MODIFIED:20240228T073236Z
UID:17620-1709283600-1709287200@www.zentrum-ilmenau.digital
SUMMARY:Jetzt handeln: Innenstadt der Zukunft - Wie Digitalisierung den Einkaufsbummel rettet
DESCRIPTION:Die Veranstaltungsreihe „Jetzt handeln: Erfolgsstrategien für den Handel mit Zukunft“ geht in die nächste Runde. Die vierteilige Reihe ist für alle\, die den Herausforderungen des Einzelhandels mit digitalen Strategien begegnen wollen. Immer freitags online\, immer von 9 bis 10 Uhr. \nTeil 2: Ausschlaggebend für den Besuch der Innenstadt ist der Einkaufsbummel. Dennoch sinken – verstärkt durch die Pandemie – die Frequenzen und führen somit zu Umsatzverlusten. Um diesen Trend zu stoppen und die Innenstädte am Leben zu halten\, gilt es attraktive Angebote zu schaffen\, die die Besucher:innen zurück lotsen. Der stationäre Handel und weitere Akteure der Stadt sind hier gefordert. In unserem Vortrag zeigen wir auf\, wie es gelingen kann Besucher:innen an die Innenstädte zu binden. Insbesondere die Digitalisierung spielt eine bedeutende Rolle\, wenn es um die (Re-)Vitalisierung der Innenstädte geht. Praxisbeispiele runden den Vortrag ab und geben gleichzeitig Ideen zur Umsetzung vor Ort. \nDer Vortrag zeigt das Potenzial von Künstlicher Intelligenz im Handel der Zukunft anhand zahlreicher Beispiele für solche Assistenzsysteme auf\, welche ihr in eurem Unternehmen zum Einsatz bringen könnt. \nDer Vortrag wird von ThEx Wirtschaft 4.0 in Kooperation mit dem Mittelstand-Digital Zentrum Handel veranstaltet. \nDie Anmeldung erfolgt über diesen Link den Flyer finden Sie hier. \n  \nWeitere Termine aus dieser Veranstaltungsreihe: \n Künstliche Intelligenz: Zukunft des Einzelhandels? | 23. Februar 2024 \nInnenstadt der Zukunft: Wie Digitalisierung den Einkaufsbummel rettet | 1. März 2024 \nPersonalgewinnung im Handel: Recruiting mit Social Media | 15. März 2024 \nDigital durchstarten: Leitfaden zu einer starken Online-Präsenz | 22. März 2023
URL:https://www.zentrum-ilmenau.digital/veranstaltung/jetzt-handeln-innenstadt-der-zukunft-wie-digitalisierung-den-einkaufsbummel-rettet/
LOCATION:Online
CATEGORIES:Extern,Onlineseminare,Veranstaltung Dritter
ATTACH;FMTTYPE=image/jpeg:https://www.zentrum-ilmenau.digital/wp-content/uploads/2024/02/Handelswebinarreihe_Maerz-2024-1200-x-1200-px-1.jpg
ORGANIZER;CN="Th%C3%BCringer Zentrum f%C3%BCr Existenzgr%C3%BCndungen und Unternehmertum (ThEx Wirtschaft 4.0)":MAILTO:dietrich@thueringen40.de
END:VEVENT
BEGIN:VEVENT
DTSTART;TZID=Europe/Berlin:20240301T100000
DTEND;TZID=Europe/Berlin:20240301T113000
DTSTAMP:20260422T022101
CREATED:20240102T100309Z
LAST-MODIFIED:20240215T073501Z
UID:17006-1709287200-1709292600@www.zentrum-ilmenau.digital
SUMMARY:Eröffnung KI-Frühling 2024: Ein Jahr Mega-Hype Generative KI und ChatGPT: Was ist in der Industrie passiert? – Wie geht es weiter?
DESCRIPTION:Die Veranstaltung ist als eine Bestandsaufnahme seit dem KI-Frühling im letzten Jahr konzipiert: Das Thema Künstliche Intelligenz ist omnipräsent und vermutlich ganz oben auf dem Hype Cycle angekommen. Dennoch stellen sich viele zu klärende Fragen: Was steckt hinter dem Hype? Was funktioniert\, was noch nicht? Und ist jetzt eigentlich alles Generative Künstliche Intelligenz? \nVor dem Hintergrund des Rückblicks werden auch praktische Informationen und Anhaltspunkte besprochen\, wie die Einführung von Künstlicher Intelligenz in Unternehmen unabhängig vom Wissensstand begonnen werden kann.   \nVeranstaltungsziel: \nUpdate über das Thema & Einführung in die Thematik mit einfacher Erklärung der Technologie\, Möglichkeiten\, Use-Cases und konkreten nächsten Schritten  \nAgenda: \n\nAllgemeine Einführung (aus gesellschaftlicher und technologischer Sicht) \nFähigkeiten (Bild\, Text\, Code\, Video etc.)  \nSicht auf den deutschen Markt – wie weit sind die Unternehmen wirklich? \nWas sind gute Use-Cases – womit kann man schnell Erfolge erzeugen? \n\nTextverarbeitung und Erzeugung  \nWissensagenten (Frage Dein Unternehmenswissen) \nWeitere \n\n\nErste Schritte\, wie fange ich an? \n\n  \nSie erhalten rechtzeitig vor Beginn der Veranstaltung die Zugangsdaten zum Online-Meeting-Raum. \n  \nReferenten: \n\n\n\n\n\n\n\nTim Bunkus\nDr. Mauricio Matthesius\n\n\n\n\n\n\n\nHier geht es zur Übersicht aller KI-Frühling-Veranstaltungen.
URL:https://www.zentrum-ilmenau.digital/veranstaltung/ki-fruehling-2024-eroeffnung/
LOCATION:Online
CATEGORIES:eigene Veranstaltung,KI-Frühling,KI-Hub
ATTACH;FMTTYPE=image/jpeg:https://www.zentrum-ilmenau.digital/wp-content/uploads/2024/01/KIF2024_VA_Grafik.jpg
ORGANIZER;CN="Mittelstand-Digital Zentrum Ilmenau":MAILTO:info@kompetenzzentrum-ilmenau.digital
END:VEVENT
END:VCALENDAR